BEGIN:VCALENDAR
VERSION:2.0
PRODID:-//Schoenstatt Australia - ECPv6.15.20//NONSGML v1.0//EN
CALSCALE:GREGORIAN
METHOD:PUBLISH
X-ORIGINAL-URL:https://schoenstatt.org.au
X-WR-CALDESC:Events for Schoenstatt Australia
REFRESH-INTERVAL;VALUE=DURATION:PT1H
X-Robots-Tag:noindex
X-PUBLISHED-TTL:PT1H
BEGIN:VTIMEZONE
TZID:Australia/Sydney
BEGIN:STANDARD
TZOFFSETFROM:+1100
TZOFFSETTO:+1000
TZNAME:AEST
DTSTART:20250405T160000
END:STANDARD
BEGIN:DAYLIGHT
TZOFFSETFROM:+1000
TZOFFSETTO:+1100
TZNAME:AEDT
DTSTART:20251004T160000
END:DAYLIGHT
BEGIN:STANDARD
TZOFFSETFROM:+1100
TZOFFSETTO:+1000
TZNAME:AEST
DTSTART:20260404T160000
END:STANDARD
BEGIN:DAYLIGHT
TZOFFSETFROM:+1000
TZOFFSETTO:+1100
TZNAME:AEDT
DTSTART:20261003T160000
END:DAYLIGHT
BEGIN:STANDARD
TZOFFSETFROM:+1100
TZOFFSETTO:+1000
TZNAME:AEST
DTSTART:20270403T160000
END:STANDARD
BEGIN:DAYLIGHT
TZOFFSETFROM:+1000
TZOFFSETTO:+1100
TZNAME:AEDT
DTSTART:20271002T160000
END:DAYLIGHT
END:VTIMEZONE
BEGIN:VEVENT
DTSTART;TZID=Australia/Sydney:20260510T190000
DTEND;TZID=Australia/Sydney:20260510T200000
DTSTAMP:20260420T080238
CREATED:20260107T015944Z
LAST-MODIFIED:20260107T020019Z
UID:10004492-1778439600-1778443200@schoenstatt.org.au
SUMMARY:Shrine Time – Holy Hour for Youth & Young Adults
DESCRIPTION:Join us every second Sunday of the month for Shrine Time at the Mount Schoenstatt Shrine. \nExperience praise\, worship\, silence\, prayer\, reflection\, confession\, and benediction. \nA social gathering will follow. \nFor more information\, contact Sr M Rita at srrita@schoenstatt.org.au or 0493 026 628.
URL:https://schoenstatt.org.au/event/shrine-time-holy-hour-for-youth-young-adults-5/2026-05-10/
LOCATION:Mount Schoenstatt\, 230 Fairlight Road\, Mulgoa\, NSW\, 2745\, Australia
ATTACH;FMTTYPE=image/jpeg:https://schoenstatt.org.au/wp-content/uploads/2026/01/2026-Shrine-Time-1.jpg
ORGANIZER;CN="Sr M Rita":MAILTO:srrita@schoenstatt.org.au
END:VEVENT
END:VCALENDAR