BEGIN:VCALENDAR
VERSION:2.0
PRODID:-//Schoenstatt Australia - ECPv6.15.20//NONSGML v1.0//EN
CALSCALE:GREGORIAN
METHOD:PUBLISH
X-WR-CALNAME:Schoenstatt Australia
X-ORIGINAL-URL:https://schoenstatt.org.au
X-WR-CALDESC:Events for Schoenstatt Australia
REFRESH-INTERVAL;VALUE=DURATION:PT1H
X-Robots-Tag:noindex
X-PUBLISHED-TTL:PT1H
BEGIN:VTIMEZONE
TZID:Australia/Sydney
BEGIN:STANDARD
TZOFFSETFROM:+1100
TZOFFSETTO:+1000
TZNAME:AEST
DTSTART:20260404T160000
END:STANDARD
BEGIN:DAYLIGHT
TZOFFSETFROM:+1000
TZOFFSETTO:+1100
TZNAME:AEDT
DTSTART:20261003T160000
END:DAYLIGHT
BEGIN:STANDARD
TZOFFSETFROM:+1100
TZOFFSETTO:+1000
TZNAME:AEST
DTSTART:20270403T160000
END:STANDARD
BEGIN:DAYLIGHT
TZOFFSETFROM:+1000
TZOFFSETTO:+1100
TZNAME:AEDT
DTSTART:20271002T160000
END:DAYLIGHT
BEGIN:STANDARD
TZOFFSETFROM:+1100
TZOFFSETTO:+1000
TZNAME:AEST
DTSTART:20280401T160000
END:STANDARD
BEGIN:DAYLIGHT
TZOFFSETFROM:+1000
TZOFFSETTO:+1100
TZNAME:AEDT
DTSTART:20280930T160000
END:DAYLIGHT
END:VTIMEZONE
BEGIN:VEVENT
DTSTART;TZID=Australia/Sydney:20270131T110000
DTEND;TZID=Australia/Sydney:20270131T120000
DTSTAMP:20260421T025746
CREATED:20220330T031013Z
LAST-MODIFIED:20250401T225336Z
UID:10002139-1801393200-1801396800@schoenstatt.org.au
SUMMARY:Holy Mass
DESCRIPTION:
URL:https://schoenstatt.org.au/event/holy-mass-2/2027-01-31/
LOCATION:Family Hall – Mount Schoenstatt\, 230 Fairlight Rd\, Mulgoa\, New South Wales\, 2745\, Australia
CATEGORIES:Holy Mass
END:VEVENT
BEGIN:VEVENT
DTSTART;TZID=Australia/Sydney:20270201T070000
DTEND;TZID=Australia/Sydney:20270201T074500
DTSTAMP:20260421T025746
CREATED:20250401T224454Z
LAST-MODIFIED:20260223T025648Z
UID:10001549-1801465200-1801467900@schoenstatt.org.au
SUMMARY:Holy Mass
DESCRIPTION:
URL:https://schoenstatt.org.au/event/7am-holy-mass-5/2027-02-01/
LOCATION:Joseph Kentenich House – Mount Schoenstatt\, 230 Fairlight Road\, Mulgoa\, NSW\, 2745\, Australia
CATEGORIES:Holy Mass
END:VEVENT
BEGIN:VEVENT
DTSTART;TZID=Australia/Sydney:20270204T110000
DTEND;TZID=Australia/Sydney:20270204T120000
DTSTAMP:20260421T025746
CREATED:20220330T030739Z
LAST-MODIFIED:20260223T025907Z
UID:10002334-1801738800-1801742400@schoenstatt.org.au
SUMMARY:Holy Mass
DESCRIPTION:
URL:https://schoenstatt.org.au/event/holy-mass/2027-02-04/
LOCATION:Family Hall – Mount Schoenstatt\, 230 Fairlight Rd\, Mulgoa\, New South Wales\, 2745\, Australia
CATEGORIES:Holy Mass
END:VEVENT
END:VCALENDAR