BEGIN:VCALENDAR
VERSION:2.0
PRODID:-//Schoenstatt Australia - ECPv6.15.20//NONSGML v1.0//EN
CALSCALE:GREGORIAN
METHOD:PUBLISH
X-ORIGINAL-URL:https://schoenstatt.org.au
X-WR-CALDESC:Events for Schoenstatt Australia
REFRESH-INTERVAL;VALUE=DURATION:PT1H
X-Robots-Tag:noindex
X-PUBLISHED-TTL:PT1H
BEGIN:VTIMEZONE
TZID:Australia/Sydney
BEGIN:STANDARD
TZOFFSETFROM:+1100
TZOFFSETTO:+1000
TZNAME:AEST
DTSTART:20250405T160000
END:STANDARD
BEGIN:DAYLIGHT
TZOFFSETFROM:+1000
TZOFFSETTO:+1100
TZNAME:AEDT
DTSTART:20251004T160000
END:DAYLIGHT
BEGIN:STANDARD
TZOFFSETFROM:+1100
TZOFFSETTO:+1000
TZNAME:AEST
DTSTART:20260404T160000
END:STANDARD
BEGIN:DAYLIGHT
TZOFFSETFROM:+1000
TZOFFSETTO:+1100
TZNAME:AEDT
DTSTART:20261003T160000
END:DAYLIGHT
BEGIN:STANDARD
TZOFFSETFROM:+1100
TZOFFSETTO:+1000
TZNAME:AEST
DTSTART:20270403T160000
END:STANDARD
BEGIN:DAYLIGHT
TZOFFSETFROM:+1000
TZOFFSETTO:+1100
TZNAME:AEDT
DTSTART:20271002T160000
END:DAYLIGHT
END:VTIMEZONE
BEGIN:VEVENT
DTSTART;TZID=Australia/Sydney:20260326T110000
DTEND;TZID=Australia/Sydney:20260326T120000
DTSTAMP:20260420T095416
CREATED:20220330T030739Z
LAST-MODIFIED:20260223T025907Z
UID:10002289-1774522800-1774526400@schoenstatt.org.au
SUMMARY:Holy Mass
DESCRIPTION:
URL:https://schoenstatt.org.au/event/holy-mass/2026-03-26/
LOCATION:Family Hall – Mount Schoenstatt\, 230 Fairlight Rd\, Mulgoa\, New South Wales\, 2745\, Australia
CATEGORIES:Holy Mass
END:VEVENT
BEGIN:VEVENT
DTSTART;TZID=Australia/Sydney:20260327T070000
DTEND;TZID=Australia/Sydney:20260327T074500
DTSTAMP:20260420T095416
CREATED:20250401T224454Z
LAST-MODIFIED:20260223T025648Z
UID:10001327-1774594800-1774597500@schoenstatt.org.au
SUMMARY:Holy Mass
DESCRIPTION:
URL:https://schoenstatt.org.au/event/7am-holy-mass-5/2026-03-27/
LOCATION:Joseph Kentenich House – Mount Schoenstatt\, 230 Fairlight Road\, Mulgoa\, NSW\, 2745\, Australia
CATEGORIES:Holy Mass
END:VEVENT
BEGIN:VEVENT
DTSTART;TZID=Australia/Sydney:20260329T110000
DTEND;TZID=Australia/Sydney:20260329T120000
DTSTAMP:20260420T095416
CREATED:20220330T031013Z
LAST-MODIFIED:20250401T225336Z
UID:10002095-1774782000-1774785600@schoenstatt.org.au
SUMMARY:Holy Mass
DESCRIPTION:
URL:https://schoenstatt.org.au/event/holy-mass-2/2026-03-29/
LOCATION:Family Hall – Mount Schoenstatt\, 230 Fairlight Rd\, Mulgoa\, New South Wales\, 2745\, Australia
CATEGORIES:Holy Mass
END:VEVENT
BEGIN:VEVENT
DTSTART;TZID=Australia/Sydney:20260403T100000
DTEND;TZID=Australia/Sydney:20260403T123000
DTSTAMP:20260420T095416
CREATED:20260223T011320Z
LAST-MODIFIED:20260223T011320Z
UID:10004519-1775210400-1775219400@schoenstatt.org.au
SUMMARY:Good Friday Stations of the Cross
DESCRIPTION:Starting in the valley to the Shrine
URL:https://schoenstatt.org.au/event/good-friday-stations-of-the-cross-4/
LOCATION:NSW
ATTACH;FMTTYPE=image/jpeg:https://schoenstatt.org.au/wp-content/uploads/2026/02/2026-Stations-of-the-Cross.jpg
END:VEVENT
BEGIN:VEVENT
DTSTART;TZID=Australia/Sydney:20260406T133000
DTEND;TZID=Australia/Sydney:20260406T173000
DTSTAMP:20260420T095416
CREATED:20260217T235552Z
LAST-MODIFIED:20260220T005140Z
UID:10004517-1775482200-1775496600@schoenstatt.org.au
SUMMARY:Jubilee Celebrations
DESCRIPTION:You are invited to celebrate with us: \n75 Years of the arrival of the first Schoenstatt Sisters of Mary to Australia \nAND \n60 Years of the Schoenstatt Movement in Australia \n  \nPlease bring a plate to share for afternoon tea. \n  \nRSVP Shirley Hall 0417 153 930 \nmovtoffice@schoenstatt.org.au
URL:https://schoenstatt.org.au/event/sisters-jubilee-celebration/
LOCATION:Mount Schoenstatt\, 230 Fairlight Road\, Mulgoa\, NSW\, 2745\, Australia
ATTACH;FMTTYPE=image/jpeg:https://schoenstatt.org.au/wp-content/uploads/2026/02/Jubilee-amended.jpg
END:VEVENT
BEGIN:VEVENT
DTSTART;TZID=Australia/Sydney:20260406T153000
DTEND;TZID=Australia/Sydney:20260406T163000
DTSTAMP:20260420T095416
CREATED:20260316T012109Z
LAST-MODIFIED:20260316T012109Z
UID:10004801-1775489400-1775493000@schoenstatt.org.au
SUMMARY:75th Anniversary Holy Mass in Riverton WA
DESCRIPTION:Join us for Holy Mass to mark the 75th anniversary of the arrival of the first Schoenstatt Sisters of Mary to Australia! \nQueen of Apostle Church55 Tudor AveRiverton WA
URL:https://schoenstatt.org.au/event/75th-anniversary-holy-mass-in-riverton-wa/
LOCATION:Queen of Apostle Church 55 Tudor Ave Riverton WA\, 55 Tudor Ave\, Roverton\, WA\, 6148\, Australia
ATTACH;FMTTYPE=image/jpeg:https://schoenstatt.org.au/wp-content/uploads/2026/03/WA-75years.jpg
END:VEVENT
BEGIN:VEVENT
DTSTART;TZID=Australia/Sydney:20260408T200000
DTEND;TZID=Australia/Sydney:20260408T210000
DTSTAMP:20260420T095416
CREATED:20250203T011608Z
LAST-MODIFIED:20260128T225837Z
UID:10004507-1775678400-1775682000@schoenstatt.org.au
SUMMARY:Men at The Shrine - Monthly Formation\, Adoration & Fellowship
DESCRIPTION:All men are invited to spend time with the Lord and His Mother at the Schoenstatt Shrine\, Mulgoa\, on the second Wednesday of each month\, 8-9pm.\nThe hour includes a brief reflection by Father Pawel Barszczewski OP\, followed by silent adoration of the Blessed Sacrament; confessions available. A cuppa and good conversation follow. \nFor further information\, please contact Bernard 0416 106 871
URL:https://schoenstatt.org.au/event/men-at-the-shrine-monthly-formation-adoration-fellowship/2026-04-08/
LOCATION:Mount Schoenstatt\, 230 Fairlight Road\, Mulgoa\, NSW\, 2745\, Australia
ATTACH;FMTTYPE=image/jpeg:https://schoenstatt.org.au/wp-content/uploads/2025/02/Men-at-the-Shrine-Flyer-2026.jpg
END:VEVENT
BEGIN:VEVENT
DTSTART;TZID=Australia/Sydney:20260411T093000
DTEND;TZID=Australia/Sydney:20260411T163000
DTSTAMP:20260420T095416
CREATED:20260113T225854Z
LAST-MODIFIED:20260114T021813Z
UID:10004502-1775899800-1775925000@schoenstatt.org.au
SUMMARY:Grace & Silence 2026
DESCRIPTION:Silent retreat series for women aged 18 – 35 years discerning a vocation to Marriage & Family\, Single Life or Consecrated Life. Open your soul and allow God to speak into your heart! \n*A four part retreat series where attendance of all four events is highly recommended. \nPart 1 February 14\nPart 2 March 14\nPart 3 April 11\nPart 4 May 9 \nCost $25 per day or $90 full series\nIncludes morning tea and lunch \nVenue: ‘Bethany’ – 301 Fairlight Road Mulgoa\nFor catering purposes registrations close ONE WEEK before each event! \nFor more details or to register contact Hannah 0433 443 384
URL:https://schoenstatt.org.au/event/grace-silence-2026/2026-04-11/
LOCATION:Bethany\, 301 Fairlight Road\, Mulgoa\, NSW\, 2745\, Australia
ATTACH;FMTTYPE=image/jpeg:https://schoenstatt.org.au/wp-content/uploads/2026/01/Grace-Silence-2026.jpg
ORGANIZER;CN="Sr M Olivia":MAILTO:sister.m.olivia@gmail.com
END:VEVENT
BEGIN:VEVENT
DTSTART;TZID=Australia/Sydney:20260412T190000
DTEND;TZID=Australia/Sydney:20260412T200000
DTSTAMP:20260420T095416
CREATED:20260107T015944Z
LAST-MODIFIED:20260107T020019Z
UID:10004491-1776020400-1776024000@schoenstatt.org.au
SUMMARY:Shrine Time – Holy Hour for Youth & Young Adults
DESCRIPTION:Join us every second Sunday of the month for Shrine Time at the Mount Schoenstatt Shrine. \nExperience praise\, worship\, silence\, prayer\, reflection\, confession\, and benediction. \nA social gathering will follow. \nFor more information\, contact Sr M Rita at srrita@schoenstatt.org.au or 0493 026 628.
URL:https://schoenstatt.org.au/event/shrine-time-holy-hour-for-youth-young-adults-5/2026-04-12/
LOCATION:Mount Schoenstatt\, 230 Fairlight Road\, Mulgoa\, NSW\, 2745\, Australia
ATTACH;FMTTYPE=image/jpeg:https://schoenstatt.org.au/wp-content/uploads/2026/01/2026-Shrine-Time-1.jpg
ORGANIZER;CN="Sr M Rita":MAILTO:srrita@schoenstatt.org.au
END:VEVENT
BEGIN:VEVENT
DTSTART;TZID=Australia/Sydney:20260517T093000
DTEND;TZID=Australia/Sydney:20260517T163000
DTSTAMP:20260420T095416
CREATED:20260417T035310Z
LAST-MODIFIED:20260417T035310Z
UID:10004803-1779010200-1779035400@schoenstatt.org.au
SUMMARY:Schoenstatt Marian Pilgrimage
DESCRIPTION:Annual Schoenstatt Marian Pilgrimage  \n“Mary\, Light of our hope” \nProgram \n9.30am Sacrament of Reconciliation \n10.00am Welcome & Opening Prayer \n10.30am Holy Mass with Bishop Tony Percy (Auxiliary Bishop of Sydney) \n2.00pm Eucharistic Procession & Annointing of the Sick \n3.00pm Benediction \n\nBring along your Pilgrim Mother Shrines.\nFood & drinks available for purchase.\nOutdoor event – bring your own chairs.\n\nEnquiries Sr M Rita 0493 026 628
URL:https://schoenstatt.org.au/event/schoenstatt-marian-pilgrimage/
LOCATION:Mount Schoenstatt\, 230 Fairlight Road\, Mulgoa\, NSW\, 2745\, Australia
ATTACH;FMTTYPE=image/jpeg:https://schoenstatt.org.au/wp-content/uploads/2026/04/2026-Marian-Pilgrimage.jpg
ORGANIZER;CN="Sr M Rita":MAILTO:srrita@schoenstatt.org.au
END:VEVENT
BEGIN:VEVENT
DTSTART;TZID=Australia/Sydney:20260613T093000
DTEND;TZID=Australia/Sydney:20260613T163000
DTSTAMP:20260420T095416
CREATED:20260416T040619Z
LAST-MODIFIED:20260416T040619Z
UID:10004802-1781343000-1781368200@schoenstatt.org.au
SUMMARY:Everyday Sanctity - A Retreat Day for Young Women
DESCRIPTION:Talks from the Schoenstatt Sisters\nPanel\nHoly Mass\nConfessions\nEucharistic Adoration\nPlenary Indulgence\n\nCelebrating 100 Years of the Schoenstatt Sisters of Mary! \nIncludes morning tea & lunch. \nRegistrations required by 10th June to Sr M Olivia 0473 201 525.
URL:https://schoenstatt.org.au/event/everyday-sanctity-a-retreat-day-for-young-women/
LOCATION:Mount Schoenstatt\, 230 Fairlight Road\, Mulgoa\, NSW\, 2745\, Australia
ATTACH;FMTTYPE=image/jpeg:https://schoenstatt.org.au/wp-content/uploads/2026/04/Young-Womens-Jubilee-Retreat-Day.jpg
ORGANIZER;CN="Sr M Olivia":MAILTO:sister.m.olivia@gmail.com
END:VEVENT
END:VCALENDAR