BEGIN:VCALENDAR
VERSION:2.0
PRODID:-//Schoenstatt Australia - ECPv6.15.20//NONSGML v1.0//EN
CALSCALE:GREGORIAN
METHOD:PUBLISH
X-ORIGINAL-URL:https://schoenstatt.org.au
X-WR-CALDESC:Events for Schoenstatt Australia
REFRESH-INTERVAL;VALUE=DURATION:PT1H
X-Robots-Tag:noindex
X-PUBLISHED-TTL:PT1H
BEGIN:VTIMEZONE
TZID:Australia/Sydney
BEGIN:STANDARD
TZOFFSETFROM:+1100
TZOFFSETTO:+1000
TZNAME:AEST
DTSTART:20250405T160000
END:STANDARD
BEGIN:DAYLIGHT
TZOFFSETFROM:+1000
TZOFFSETTO:+1100
TZNAME:AEDT
DTSTART:20251004T160000
END:DAYLIGHT
BEGIN:STANDARD
TZOFFSETFROM:+1100
TZOFFSETTO:+1000
TZNAME:AEST
DTSTART:20260404T160000
END:STANDARD
BEGIN:DAYLIGHT
TZOFFSETFROM:+1000
TZOFFSETTO:+1100
TZNAME:AEDT
DTSTART:20261003T160000
END:DAYLIGHT
BEGIN:STANDARD
TZOFFSETFROM:+1100
TZOFFSETTO:+1000
TZNAME:AEST
DTSTART:20270403T160000
END:STANDARD
BEGIN:DAYLIGHT
TZOFFSETFROM:+1000
TZOFFSETTO:+1100
TZNAME:AEDT
DTSTART:20271002T160000
END:DAYLIGHT
END:VTIMEZONE
BEGIN:VEVENT
DTSTART;TZID=Australia/Sydney:20260612T070000
DTEND;TZID=Australia/Sydney:20260612T074500
DTSTAMP:20260420T165508
CREATED:20250401T224454Z
LAST-MODIFIED:20260223T025648Z
UID:10001382-1781247600-1781250300@schoenstatt.org.au
SUMMARY:Holy Mass
DESCRIPTION:
URL:https://schoenstatt.org.au/event/7am-holy-mass-5/2026-06-12/
LOCATION:Joseph Kentenich House – Mount Schoenstatt\, 230 Fairlight Road\, Mulgoa\, NSW\, 2745\, Australia
CATEGORIES:Holy Mass
END:VEVENT
BEGIN:VEVENT
DTSTART;TZID=Australia/Sydney:20260613T093000
DTEND;TZID=Australia/Sydney:20260613T163000
DTSTAMP:20260420T165508
CREATED:20260416T040619Z
LAST-MODIFIED:20260416T040619Z
UID:10004802-1781343000-1781368200@schoenstatt.org.au
SUMMARY:Everyday Sanctity - A Retreat Day for Young Women
DESCRIPTION:Talks from the Schoenstatt Sisters\nPanel\nHoly Mass\nConfessions\nEucharistic Adoration\nPlenary Indulgence\n\nCelebrating 100 Years of the Schoenstatt Sisters of Mary! \nIncludes morning tea & lunch. \nRegistrations required by 10th June to Sr M Olivia 0473 201 525.
URL:https://schoenstatt.org.au/event/everyday-sanctity-a-retreat-day-for-young-women/
LOCATION:Mount Schoenstatt\, 230 Fairlight Road\, Mulgoa\, NSW\, 2745\, Australia
ATTACH;FMTTYPE=image/jpeg:https://schoenstatt.org.au/wp-content/uploads/2026/04/Young-Womens-Jubilee-Retreat-Day.jpg
ORGANIZER;CN="Sr M Olivia":MAILTO:sister.m.olivia@gmail.com
END:VEVENT
BEGIN:VEVENT
DTSTART;TZID=Australia/Sydney:20260614T110000
DTEND;TZID=Australia/Sydney:20260614T120000
DTSTAMP:20260420T165509
CREATED:20220330T031013Z
LAST-MODIFIED:20250401T225336Z
UID:10002106-1781434800-1781438400@schoenstatt.org.au
SUMMARY:Holy Mass
DESCRIPTION:
URL:https://schoenstatt.org.au/event/holy-mass-2/2026-06-14/
LOCATION:Family Hall – Mount Schoenstatt\, 230 Fairlight Rd\, Mulgoa\, New South Wales\, 2745\, Australia
CATEGORIES:Holy Mass
END:VEVENT
BEGIN:VEVENT
DTSTART;TZID=Australia/Sydney:20260614T190000
DTEND;TZID=Australia/Sydney:20260614T200000
DTSTAMP:20260420T165509
CREATED:20260107T015944Z
LAST-MODIFIED:20260107T020019Z
UID:10004493-1781463600-1781467200@schoenstatt.org.au
SUMMARY:Shrine Time – Holy Hour for Youth & Young Adults
DESCRIPTION:Join us every second Sunday of the month for Shrine Time at the Mount Schoenstatt Shrine. \nExperience praise\, worship\, silence\, prayer\, reflection\, confession\, and benediction. \nA social gathering will follow. \nFor more information\, contact Sr M Rita at srrita@schoenstatt.org.au or 0493 026 628.
URL:https://schoenstatt.org.au/event/shrine-time-holy-hour-for-youth-young-adults-5/2026-06-14/
LOCATION:Mount Schoenstatt\, 230 Fairlight Road\, Mulgoa\, NSW\, 2745\, Australia
ATTACH;FMTTYPE=image/jpeg:https://schoenstatt.org.au/wp-content/uploads/2026/01/2026-Shrine-Time-1.jpg
ORGANIZER;CN="Sr M Rita":MAILTO:srrita@schoenstatt.org.au
END:VEVENT
BEGIN:VEVENT
DTSTART;TZID=Australia/Sydney:20260618T110000
DTEND;TZID=Australia/Sydney:20260618T120000
DTSTAMP:20260420T165509
CREATED:20220330T030739Z
LAST-MODIFIED:20260223T025907Z
UID:10002301-1781780400-1781784000@schoenstatt.org.au
SUMMARY:Holy Mass
DESCRIPTION:
URL:https://schoenstatt.org.au/event/holy-mass/2026-06-18/
LOCATION:Family Hall – Mount Schoenstatt\, 230 Fairlight Rd\, Mulgoa\, New South Wales\, 2745\, Australia
CATEGORIES:Holy Mass
END:VEVENT
BEGIN:VEVENT
DTSTART;TZID=Australia/Sydney:20260708T200000
DTEND;TZID=Australia/Sydney:20260708T210000
DTSTAMP:20260420T165509
CREATED:20250203T011608Z
LAST-MODIFIED:20260128T225837Z
UID:10004510-1783540800-1783544400@schoenstatt.org.au
SUMMARY:Men at The Shrine - Monthly Formation\, Adoration & Fellowship
DESCRIPTION:All men are invited to spend time with the Lord and His Mother at the Schoenstatt Shrine\, Mulgoa\, on the second Wednesday of each month\, 8-9pm.\nThe hour includes a brief reflection by Father Pawel Barszczewski OP\, followed by silent adoration of the Blessed Sacrament; confessions available. A cuppa and good conversation follow. \nFor further information\, please contact Bernard 0416 106 871
URL:https://schoenstatt.org.au/event/men-at-the-shrine-monthly-formation-adoration-fellowship/2026-07-08/
LOCATION:Mount Schoenstatt\, 230 Fairlight Road\, Mulgoa\, NSW\, 2745\, Australia
ATTACH;FMTTYPE=image/jpeg:https://schoenstatt.org.au/wp-content/uploads/2025/02/Men-at-the-Shrine-Flyer-2026.jpg
END:VEVENT
END:VCALENDAR