BEGIN:VCALENDAR
VERSION:2.0
PRODID:-//Schoenstatt Australia - ECPv6.15.20//NONSGML v1.0//EN
CALSCALE:GREGORIAN
METHOD:PUBLISH
X-ORIGINAL-URL:https://schoenstatt.org.au
X-WR-CALDESC:Events for Schoenstatt Australia
REFRESH-INTERVAL;VALUE=DURATION:PT1H
X-Robots-Tag:noindex
X-PUBLISHED-TTL:PT1H
BEGIN:VTIMEZONE
TZID:Australia/Sydney
BEGIN:STANDARD
TZOFFSETFROM:+1100
TZOFFSETTO:+1000
TZNAME:AEST
DTSTART:20260404T160000
END:STANDARD
BEGIN:DAYLIGHT
TZOFFSETFROM:+1000
TZOFFSETTO:+1100
TZNAME:AEDT
DTSTART:20261003T160000
END:DAYLIGHT
BEGIN:STANDARD
TZOFFSETFROM:+1100
TZOFFSETTO:+1000
TZNAME:AEST
DTSTART:20270403T160000
END:STANDARD
BEGIN:DAYLIGHT
TZOFFSETFROM:+1000
TZOFFSETTO:+1100
TZNAME:AEDT
DTSTART:20271002T160000
END:DAYLIGHT
BEGIN:STANDARD
TZOFFSETFROM:+1100
TZOFFSETTO:+1000
TZNAME:AEST
DTSTART:20280401T160000
END:STANDARD
BEGIN:DAYLIGHT
TZOFFSETFROM:+1000
TZOFFSETTO:+1100
TZNAME:AEDT
DTSTART:20280930T160000
END:DAYLIGHT
END:VTIMEZONE
BEGIN:VEVENT
DTSTART;TZID=Australia/Sydney:20270123T070000
DTEND;TZID=Australia/Sydney:20270123T074500
DTSTAMP:20260421T025558
CREATED:20250401T224454Z
LAST-MODIFIED:20260223T025648Z
UID:10001543-1800687600-1800690300@schoenstatt.org.au
SUMMARY:Holy Mass
DESCRIPTION:
URL:https://schoenstatt.org.au/event/7am-holy-mass-5/2027-01-23/
LOCATION:Joseph Kentenich House – Mount Schoenstatt\, 230 Fairlight Road\, Mulgoa\, NSW\, 2745\, Australia
CATEGORIES:Holy Mass
END:VEVENT
BEGIN:VEVENT
DTSTART;TZID=Australia/Sydney:20270124T110000
DTEND;TZID=Australia/Sydney:20270124T120000
DTSTAMP:20260421T025558
CREATED:20220330T031013Z
LAST-MODIFIED:20250401T225336Z
UID:10002138-1800788400-1800792000@schoenstatt.org.au
SUMMARY:Holy Mass
DESCRIPTION:
URL:https://schoenstatt.org.au/event/holy-mass-2/2027-01-24/
LOCATION:Family Hall – Mount Schoenstatt\, 230 Fairlight Rd\, Mulgoa\, New South Wales\, 2745\, Australia
CATEGORIES:Holy Mass
END:VEVENT
BEGIN:VEVENT
DTSTART;TZID=Australia/Sydney:20270128T110000
DTEND;TZID=Australia/Sydney:20270128T120000
DTSTAMP:20260421T025558
CREATED:20220330T030739Z
LAST-MODIFIED:20260223T025907Z
UID:10002333-1801134000-1801137600@schoenstatt.org.au
SUMMARY:Holy Mass
DESCRIPTION:
URL:https://schoenstatt.org.au/event/holy-mass/2027-01-28/
LOCATION:Family Hall – Mount Schoenstatt\, 230 Fairlight Rd\, Mulgoa\, New South Wales\, 2745\, Australia
CATEGORIES:Holy Mass
END:VEVENT
END:VCALENDAR