BEGIN:VCALENDAR
VERSION:2.0
PRODID:-//Schoenstatt Australia - ECPv6.15.20//NONSGML v1.0//EN
CALSCALE:GREGORIAN
METHOD:PUBLISH
X-WR-CALNAME:Schoenstatt Australia
X-ORIGINAL-URL:https://schoenstatt.org.au
X-WR-CALDESC:Events for Schoenstatt Australia
REFRESH-INTERVAL;VALUE=DURATION:PT1H
X-Robots-Tag:noindex
X-PUBLISHED-TTL:PT1H
BEGIN:VTIMEZONE
TZID:Australia/Sydney
BEGIN:STANDARD
TZOFFSETFROM:+1100
TZOFFSETTO:+1000
TZNAME:AEST
DTSTART:20250405T160000
END:STANDARD
BEGIN:DAYLIGHT
TZOFFSETFROM:+1000
TZOFFSETTO:+1100
TZNAME:AEDT
DTSTART:20251004T160000
END:DAYLIGHT
BEGIN:STANDARD
TZOFFSETFROM:+1100
TZOFFSETTO:+1000
TZNAME:AEST
DTSTART:20260404T160000
END:STANDARD
BEGIN:DAYLIGHT
TZOFFSETFROM:+1000
TZOFFSETTO:+1100
TZNAME:AEDT
DTSTART:20261003T160000
END:DAYLIGHT
BEGIN:STANDARD
TZOFFSETFROM:+1100
TZOFFSETTO:+1000
TZNAME:AEST
DTSTART:20270403T160000
END:STANDARD
BEGIN:DAYLIGHT
TZOFFSETFROM:+1000
TZOFFSETTO:+1100
TZNAME:AEDT
DTSTART:20271002T160000
END:DAYLIGHT
END:VTIMEZONE
BEGIN:VEVENT
DTSTART;TZID=Australia/Sydney:20260313T183000
DTEND;TZID=Australia/Sydney:20260314T183000
DTSTAMP:20260422T045813
CREATED:20260306T033522Z
LAST-MODIFIED:20260306T033833Z
UID:10004800-1773426600-1773513000@schoenstatt.org.au
SUMMARY:24 Hours for the Lord
DESCRIPTION:Come and spend some time with Our Lord and His Mother in the Schoenstatt Shrine. \nBegins with Holy Mass at 6.30pm Friday. Concludes with 5.30pm Holy Mass Saturday. \nReconciliation available Friday 7.30pm-9pm & Saturday 4pm. \nFellowship following Holy Mass on Friday evening. Please bring a plate to share.
URL:https://schoenstatt.org.au/event/24-hours-for-the-lord-3/
LOCATION:Mount Schoenstatt\, 230 Fairlight Road\, Mulgoa\, NSW\, 2745\, Australia
ATTACH;FMTTYPE=image/jpeg:https://schoenstatt.org.au/wp-content/uploads/2026/03/24Hour-Flyer-2026.jpg
END:VEVENT
BEGIN:VEVENT
DTSTART;TZID=Australia/Sydney:20260403T100000
DTEND;TZID=Australia/Sydney:20260403T123000
DTSTAMP:20260422T045813
CREATED:20260223T011320Z
LAST-MODIFIED:20260223T011320Z
UID:10004519-1775210400-1775219400@schoenstatt.org.au
SUMMARY:Good Friday Stations of the Cross
DESCRIPTION:Starting in the valley to the Shrine
URL:https://schoenstatt.org.au/event/good-friday-stations-of-the-cross-4/
LOCATION:NSW
ATTACH;FMTTYPE=image/jpeg:https://schoenstatt.org.au/wp-content/uploads/2026/02/2026-Stations-of-the-Cross.jpg
END:VEVENT
BEGIN:VEVENT
DTSTART;TZID=Australia/Sydney:20260406T133000
DTEND;TZID=Australia/Sydney:20260406T173000
DTSTAMP:20260422T045813
CREATED:20260217T235552Z
LAST-MODIFIED:20260220T005140Z
UID:10004517-1775482200-1775496600@schoenstatt.org.au
SUMMARY:Jubilee Celebrations
DESCRIPTION:You are invited to celebrate with us: \n75 Years of the arrival of the first Schoenstatt Sisters of Mary to Australia \nAND \n60 Years of the Schoenstatt Movement in Australia \n  \nPlease bring a plate to share for afternoon tea. \n  \nRSVP Shirley Hall 0417 153 930 \nmovtoffice@schoenstatt.org.au
URL:https://schoenstatt.org.au/event/sisters-jubilee-celebration/
LOCATION:Mount Schoenstatt\, 230 Fairlight Road\, Mulgoa\, NSW\, 2745\, Australia
ATTACH;FMTTYPE=image/jpeg:https://schoenstatt.org.au/wp-content/uploads/2026/02/Jubilee-amended.jpg
END:VEVENT
BEGIN:VEVENT
DTSTART;TZID=Australia/Sydney:20260406T153000
DTEND;TZID=Australia/Sydney:20260406T163000
DTSTAMP:20260422T045813
CREATED:20260316T012109Z
LAST-MODIFIED:20260316T012109Z
UID:10004801-1775489400-1775493000@schoenstatt.org.au
SUMMARY:75th Anniversary Holy Mass in Riverton WA
DESCRIPTION:Join us for Holy Mass to mark the 75th anniversary of the arrival of the first Schoenstatt Sisters of Mary to Australia! \nQueen of Apostle Church55 Tudor AveRiverton WA
URL:https://schoenstatt.org.au/event/75th-anniversary-holy-mass-in-riverton-wa/
LOCATION:Queen of Apostle Church 55 Tudor Ave Riverton WA\, 55 Tudor Ave\, Roverton\, WA\, 6148\, Australia
ATTACH;FMTTYPE=image/jpeg:https://schoenstatt.org.au/wp-content/uploads/2026/03/WA-75years.jpg
END:VEVENT
BEGIN:VEVENT
DTSTART;TZID=Australia/Sydney:20260517T093000
DTEND;TZID=Australia/Sydney:20260517T163000
DTSTAMP:20260422T045813
CREATED:20260417T035310Z
LAST-MODIFIED:20260417T035310Z
UID:10004803-1779010200-1779035400@schoenstatt.org.au
SUMMARY:Schoenstatt Marian Pilgrimage
DESCRIPTION:Annual Schoenstatt Marian Pilgrimage  \n“Mary\, Light of our hope” \nProgram \n9.30am Sacrament of Reconciliation \n10.00am Welcome & Opening Prayer \n10.30am Holy Mass with Bishop Tony Percy (Auxiliary Bishop of Sydney) \n2.00pm Eucharistic Procession & Annointing of the Sick \n3.00pm Benediction \n\nBring along your Pilgrim Mother Shrines.\nFood & drinks available for purchase.\nOutdoor event – bring your own chairs.\n\nEnquiries Sr M Rita 0493 026 628
URL:https://schoenstatt.org.au/event/schoenstatt-marian-pilgrimage/
LOCATION:Mount Schoenstatt\, 230 Fairlight Road\, Mulgoa\, NSW\, 2745\, Australia
ATTACH;FMTTYPE=image/jpeg:https://schoenstatt.org.au/wp-content/uploads/2026/04/2026-Marian-Pilgrimage.jpg
ORGANIZER;CN="Sr M Rita":MAILTO:srrita@schoenstatt.org.au
END:VEVENT
BEGIN:VEVENT
DTSTART;TZID=Australia/Sydney:20260613T093000
DTEND;TZID=Australia/Sydney:20260613T163000
DTSTAMP:20260422T045813
CREATED:20260416T040619Z
LAST-MODIFIED:20260416T040619Z
UID:10004802-1781343000-1781368200@schoenstatt.org.au
SUMMARY:Everyday Sanctity - A Retreat Day for Young Women
DESCRIPTION:Talks from the Schoenstatt Sisters\nPanel\nHoly Mass\nConfessions\nEucharistic Adoration\nPlenary Indulgence\n\nCelebrating 100 Years of the Schoenstatt Sisters of Mary! \nIncludes morning tea & lunch. \nRegistrations required by 10th June to Sr M Olivia 0473 201 525.
URL:https://schoenstatt.org.au/event/everyday-sanctity-a-retreat-day-for-young-women/
LOCATION:Mount Schoenstatt\, 230 Fairlight Road\, Mulgoa\, NSW\, 2745\, Australia
ATTACH;FMTTYPE=image/jpeg:https://schoenstatt.org.au/wp-content/uploads/2026/04/Young-Womens-Jubilee-Retreat-Day.jpg
ORGANIZER;CN="Sr M Olivia":MAILTO:sister.m.olivia@gmail.com
END:VEVENT
END:VCALENDAR