BEGIN:VCALENDAR
VERSION:2.0
PRODID:-//Schoenstatt Australia - ECPv6.15.20//NONSGML v1.0//EN
CALSCALE:GREGORIAN
METHOD:PUBLISH
X-ORIGINAL-URL:https://schoenstatt.org.au
X-WR-CALDESC:Events for Schoenstatt Australia
REFRESH-INTERVAL;VALUE=DURATION:PT1H
X-Robots-Tag:noindex
X-PUBLISHED-TTL:PT1H
BEGIN:VTIMEZONE
TZID:Australia/Sydney
BEGIN:STANDARD
TZOFFSETFROM:+1100
TZOFFSETTO:+1000
TZNAME:AEST
DTSTART:20250405T160000
END:STANDARD
BEGIN:DAYLIGHT
TZOFFSETFROM:+1000
TZOFFSETTO:+1100
TZNAME:AEDT
DTSTART:20251004T160000
END:DAYLIGHT
BEGIN:STANDARD
TZOFFSETFROM:+1100
TZOFFSETTO:+1000
TZNAME:AEST
DTSTART:20260404T160000
END:STANDARD
BEGIN:DAYLIGHT
TZOFFSETFROM:+1000
TZOFFSETTO:+1100
TZNAME:AEDT
DTSTART:20261003T160000
END:DAYLIGHT
BEGIN:STANDARD
TZOFFSETFROM:+1100
TZOFFSETTO:+1000
TZNAME:AEST
DTSTART:20270403T160000
END:STANDARD
BEGIN:DAYLIGHT
TZOFFSETFROM:+1000
TZOFFSETTO:+1100
TZNAME:AEDT
DTSTART:20271002T160000
END:DAYLIGHT
END:VTIMEZONE
BEGIN:VEVENT
DTSTART;TZID=Australia/Sydney:20260201T110000
DTEND;TZID=Australia/Sydney:20260201T120000
DTSTAMP:20260420T080442
CREATED:20220330T031013Z
LAST-MODIFIED:20250401T225336Z
UID:10002087-1769943600-1769947200@schoenstatt.org.au
SUMMARY:Holy Mass
DESCRIPTION:
URL:https://schoenstatt.org.au/event/holy-mass-2/2026-02-01/
LOCATION:Family Hall – Mount Schoenstatt\, 230 Fairlight Rd\, Mulgoa\, New South Wales\, 2745\, Australia
CATEGORIES:Holy Mass
END:VEVENT
BEGIN:VEVENT
DTSTART;TZID=Australia/Sydney:20260202T070000
DTEND;TZID=Australia/Sydney:20260202T074500
DTSTAMP:20260420T080442
CREATED:20250401T224454Z
LAST-MODIFIED:20260223T025648Z
UID:10001289-1770015600-1770018300@schoenstatt.org.au
SUMMARY:Holy Mass
DESCRIPTION:
URL:https://schoenstatt.org.au/event/7am-holy-mass-5/2026-02-02/
LOCATION:Joseph Kentenich House – Mount Schoenstatt\, 230 Fairlight Road\, Mulgoa\, NSW\, 2745\, Australia
CATEGORIES:Holy Mass
END:VEVENT
BEGIN:VEVENT
DTSTART;TZID=Australia/Sydney:20260203T070000
DTEND;TZID=Australia/Sydney:20260203T074500
DTSTAMP:20260420T080442
CREATED:20250401T224454Z
LAST-MODIFIED:20260223T025648Z
UID:10001290-1770102000-1770104700@schoenstatt.org.au
SUMMARY:Holy Mass
DESCRIPTION:
URL:https://schoenstatt.org.au/event/7am-holy-mass-5/2026-02-03/
LOCATION:Joseph Kentenich House – Mount Schoenstatt\, 230 Fairlight Road\, Mulgoa\, NSW\, 2745\, Australia
CATEGORIES:Holy Mass
END:VEVENT
BEGIN:VEVENT
DTSTART;TZID=Australia/Sydney:20260204T070000
DTEND;TZID=Australia/Sydney:20260204T074500
DTSTAMP:20260420T080442
CREATED:20250401T224454Z
LAST-MODIFIED:20260223T025648Z
UID:10001291-1770188400-1770191100@schoenstatt.org.au
SUMMARY:Holy Mass
DESCRIPTION:
URL:https://schoenstatt.org.au/event/7am-holy-mass-5/2026-02-04/
LOCATION:Joseph Kentenich House – Mount Schoenstatt\, 230 Fairlight Road\, Mulgoa\, NSW\, 2745\, Australia
CATEGORIES:Holy Mass
END:VEVENT
BEGIN:VEVENT
DTSTART;TZID=Australia/Sydney:20260205T110000
DTEND;TZID=Australia/Sydney:20260205T120000
DTSTAMP:20260420T080442
CREATED:20220330T030739Z
LAST-MODIFIED:20260223T025907Z
UID:10002282-1770289200-1770292800@schoenstatt.org.au
SUMMARY:Holy Mass
DESCRIPTION:
URL:https://schoenstatt.org.au/event/holy-mass/2026-02-05/
LOCATION:Family Hall – Mount Schoenstatt\, 230 Fairlight Rd\, Mulgoa\, New South Wales\, 2745\, Australia
CATEGORIES:Holy Mass
END:VEVENT
BEGIN:VEVENT
DTSTART;TZID=Australia/Sydney:20260206T070000
DTEND;TZID=Australia/Sydney:20260206T074500
DTSTAMP:20260420T080442
CREATED:20250401T224454Z
LAST-MODIFIED:20260223T025648Z
UID:10001292-1770361200-1770363900@schoenstatt.org.au
SUMMARY:Holy Mass
DESCRIPTION:
URL:https://schoenstatt.org.au/event/7am-holy-mass-5/2026-02-06/
LOCATION:Joseph Kentenich House – Mount Schoenstatt\, 230 Fairlight Road\, Mulgoa\, NSW\, 2745\, Australia
CATEGORIES:Holy Mass
END:VEVENT
BEGIN:VEVENT
DTSTART;TZID=Australia/Sydney:20260206T190000
DTEND;TZID=Australia/Sydney:20260208T160000
DTSTAMP:20260420T080442
CREATED:20260123T233910Z
LAST-MODIFIED:20260123T235156Z
UID:10004504-1770404400-1770566400@schoenstatt.org.au
SUMMARY:Lenten Retreat for Women
DESCRIPTION:Theme: “Listening Heart” \nLocation: Mount Schoenstatt\, 230 Fairlight Road\, MULGOA 2745 \nPrice: Single Room $280 (limited)\, Shared Room $220\, Day Attendance $60 per day \nBookings: Sr. M. Elizabeth Foley\, bookings@schoenstatt.org.au\, 4773 8338 by 30 January \n 
URL:https://schoenstatt.org.au/event/lenten-retreat-for-women-2/
LOCATION:Joseph Kentenich House – Mount Schoenstatt\, 230 Fairlight Road\, Mulgoa\, NSW\, 2745\, Australia
CATEGORIES:Schoenstatt Movement Event
ORGANIZER;CN="Sr M Elizabeth Foley":MAILTO:e.foley@schoenstatt.org.au
END:VEVENT
BEGIN:VEVENT
DTSTART;TZID=Australia/Sydney:20260207T070000
DTEND;TZID=Australia/Sydney:20260207T074500
DTSTAMP:20260420T080442
CREATED:20250401T224454Z
LAST-MODIFIED:20260223T025648Z
UID:10001293-1770447600-1770450300@schoenstatt.org.au
SUMMARY:Holy Mass
DESCRIPTION:
URL:https://schoenstatt.org.au/event/7am-holy-mass-5/2026-02-07/
LOCATION:Joseph Kentenich House – Mount Schoenstatt\, 230 Fairlight Road\, Mulgoa\, NSW\, 2745\, Australia
CATEGORIES:Holy Mass
END:VEVENT
BEGIN:VEVENT
DTSTART;TZID=Australia/Sydney:20260208T110000
DTEND;TZID=Australia/Sydney:20260208T120000
DTSTAMP:20260420T080442
CREATED:20220330T031013Z
LAST-MODIFIED:20250401T225336Z
UID:10002088-1770548400-1770552000@schoenstatt.org.au
SUMMARY:Holy Mass
DESCRIPTION:
URL:https://schoenstatt.org.au/event/holy-mass-2/2026-02-08/
LOCATION:Family Hall – Mount Schoenstatt\, 230 Fairlight Rd\, Mulgoa\, New South Wales\, 2745\, Australia
CATEGORIES:Holy Mass
END:VEVENT
BEGIN:VEVENT
DTSTART;TZID=Australia/Sydney:20260208T190000
DTEND;TZID=Australia/Sydney:20260208T200000
DTSTAMP:20260420T080442
CREATED:20260107T015944Z
LAST-MODIFIED:20260107T020019Z
UID:10004489-1770577200-1770580800@schoenstatt.org.au
SUMMARY:Shrine Time – Holy Hour for Youth & Young Adults
DESCRIPTION:Join us every second Sunday of the month for Shrine Time at the Mount Schoenstatt Shrine. \nExperience praise\, worship\, silence\, prayer\, reflection\, confession\, and benediction. \nA social gathering will follow. \nFor more information\, contact Sr M Rita at srrita@schoenstatt.org.au or 0493 026 628.
URL:https://schoenstatt.org.au/event/shrine-time-holy-hour-for-youth-young-adults-5/2026-02-08/
LOCATION:Mount Schoenstatt\, 230 Fairlight Road\, Mulgoa\, NSW\, 2745\, Australia
ATTACH;FMTTYPE=image/jpeg:https://schoenstatt.org.au/wp-content/uploads/2026/01/2026-Shrine-Time-1.jpg
ORGANIZER;CN="Sr M Rita":MAILTO:srrita@schoenstatt.org.au
END:VEVENT
BEGIN:VEVENT
DTSTART;TZID=Australia/Sydney:20260209T070000
DTEND;TZID=Australia/Sydney:20260209T074500
DTSTAMP:20260420T080442
CREATED:20250401T224454Z
LAST-MODIFIED:20260223T025648Z
UID:10001294-1770620400-1770623100@schoenstatt.org.au
SUMMARY:Holy Mass
DESCRIPTION:
URL:https://schoenstatt.org.au/event/7am-holy-mass-5/2026-02-09/
LOCATION:Joseph Kentenich House – Mount Schoenstatt\, 230 Fairlight Road\, Mulgoa\, NSW\, 2745\, Australia
CATEGORIES:Holy Mass
END:VEVENT
BEGIN:VEVENT
DTSTART;TZID=Australia/Sydney:20260210T070000
DTEND;TZID=Australia/Sydney:20260210T074500
DTSTAMP:20260420T080442
CREATED:20250401T224454Z
LAST-MODIFIED:20260223T025648Z
UID:10001295-1770706800-1770709500@schoenstatt.org.au
SUMMARY:Holy Mass
DESCRIPTION:
URL:https://schoenstatt.org.au/event/7am-holy-mass-5/2026-02-10/
LOCATION:Joseph Kentenich House – Mount Schoenstatt\, 230 Fairlight Road\, Mulgoa\, NSW\, 2745\, Australia
CATEGORIES:Holy Mass
END:VEVENT
BEGIN:VEVENT
DTSTART;TZID=Australia/Sydney:20260211T070000
DTEND;TZID=Australia/Sydney:20260211T074500
DTSTAMP:20260420T080442
CREATED:20250401T224454Z
LAST-MODIFIED:20260223T025648Z
UID:10001296-1770793200-1770795900@schoenstatt.org.au
SUMMARY:Holy Mass
DESCRIPTION:
URL:https://schoenstatt.org.au/event/7am-holy-mass-5/2026-02-11/
LOCATION:Joseph Kentenich House – Mount Schoenstatt\, 230 Fairlight Road\, Mulgoa\, NSW\, 2745\, Australia
CATEGORIES:Holy Mass
END:VEVENT
BEGIN:VEVENT
DTSTART;TZID=Australia/Sydney:20260211T200000
DTEND;TZID=Australia/Sydney:20260211T210000
DTSTAMP:20260420T080442
CREATED:20250203T011608Z
LAST-MODIFIED:20260128T225837Z
UID:10004505-1770840000-1770843600@schoenstatt.org.au
SUMMARY:Men at The Shrine - Monthly Formation\, Adoration & Fellowship
DESCRIPTION:All men are invited to spend time with the Lord and His Mother at the Schoenstatt Shrine\, Mulgoa\, on the second Wednesday of each month\, 8-9pm.\nThe hour includes a brief reflection by Father Pawel Barszczewski OP\, followed by silent adoration of the Blessed Sacrament; confessions available. A cuppa and good conversation follow. \nFor further information\, please contact Bernard 0416 106 871
URL:https://schoenstatt.org.au/event/men-at-the-shrine-monthly-formation-adoration-fellowship/2026-02-11/
LOCATION:Mount Schoenstatt\, 230 Fairlight Road\, Mulgoa\, NSW\, 2745\, Australia
ATTACH;FMTTYPE=image/jpeg:https://schoenstatt.org.au/wp-content/uploads/2025/02/Men-at-the-Shrine-Flyer-2026.jpg
END:VEVENT
BEGIN:VEVENT
DTSTART;TZID=Australia/Sydney:20260212T110000
DTEND;TZID=Australia/Sydney:20260212T120000
DTSTAMP:20260420T080442
CREATED:20220330T030739Z
LAST-MODIFIED:20260223T025907Z
UID:10002283-1770894000-1770897600@schoenstatt.org.au
SUMMARY:Holy Mass
DESCRIPTION:
URL:https://schoenstatt.org.au/event/holy-mass/2026-02-12/
LOCATION:Family Hall – Mount Schoenstatt\, 230 Fairlight Rd\, Mulgoa\, New South Wales\, 2745\, Australia
CATEGORIES:Holy Mass
END:VEVENT
BEGIN:VEVENT
DTSTART;TZID=Australia/Sydney:20260213T070000
DTEND;TZID=Australia/Sydney:20260213T074500
DTSTAMP:20260420T080442
CREATED:20250401T224454Z
LAST-MODIFIED:20260223T025648Z
UID:10001297-1770966000-1770968700@schoenstatt.org.au
SUMMARY:Holy Mass
DESCRIPTION:
URL:https://schoenstatt.org.au/event/7am-holy-mass-5/2026-02-13/
LOCATION:Joseph Kentenich House – Mount Schoenstatt\, 230 Fairlight Road\, Mulgoa\, NSW\, 2745\, Australia
CATEGORIES:Holy Mass
END:VEVENT
BEGIN:VEVENT
DTSTART;TZID=Australia/Sydney:20260214T070000
DTEND;TZID=Australia/Sydney:20260214T074500
DTSTAMP:20260420T080442
CREATED:20250401T224454Z
LAST-MODIFIED:20260223T025648Z
UID:10001298-1771052400-1771055100@schoenstatt.org.au
SUMMARY:Holy Mass
DESCRIPTION:
URL:https://schoenstatt.org.au/event/7am-holy-mass-5/2026-02-14/
LOCATION:Joseph Kentenich House – Mount Schoenstatt\, 230 Fairlight Road\, Mulgoa\, NSW\, 2745\, Australia
CATEGORIES:Holy Mass
END:VEVENT
BEGIN:VEVENT
DTSTART;TZID=Australia/Sydney:20260214T093000
DTEND;TZID=Australia/Sydney:20260214T163000
DTSTAMP:20260420T080442
CREATED:20260113T225854Z
LAST-MODIFIED:20260114T021813Z
UID:10004500-1771061400-1771086600@schoenstatt.org.au
SUMMARY:Grace & Silence 2026
DESCRIPTION:Silent retreat series for women aged 18 – 35 years discerning a vocation to Marriage & Family\, Single Life or Consecrated Life. Open your soul and allow God to speak into your heart! \n*A four part retreat series where attendance of all four events is highly recommended. \nPart 1 February 14\nPart 2 March 14\nPart 3 April 11\nPart 4 May 9 \nCost $25 per day or $90 full series\nIncludes morning tea and lunch \nVenue: ‘Bethany’ – 301 Fairlight Road Mulgoa\nFor catering purposes registrations close ONE WEEK before each event! \nFor more details or to register contact Hannah 0433 443 384
URL:https://schoenstatt.org.au/event/grace-silence-2026/2026-02-14/
LOCATION:Bethany\, 301 Fairlight Road\, Mulgoa\, NSW\, 2745\, Australia
ATTACH;FMTTYPE=image/jpeg:https://schoenstatt.org.au/wp-content/uploads/2026/01/Grace-Silence-2026.jpg
ORGANIZER;CN="Sr M Olivia":MAILTO:sister.m.olivia@gmail.com
END:VEVENT
BEGIN:VEVENT
DTSTART;TZID=Australia/Sydney:20260215T110000
DTEND;TZID=Australia/Sydney:20260215T120000
DTSTAMP:20260420T080442
CREATED:20220330T031013Z
LAST-MODIFIED:20250401T225336Z
UID:10002089-1771153200-1771156800@schoenstatt.org.au
SUMMARY:Holy Mass
DESCRIPTION:
URL:https://schoenstatt.org.au/event/holy-mass-2/2026-02-15/
LOCATION:Family Hall – Mount Schoenstatt\, 230 Fairlight Rd\, Mulgoa\, New South Wales\, 2745\, Australia
CATEGORIES:Holy Mass
END:VEVENT
BEGIN:VEVENT
DTSTART;TZID=Australia/Sydney:20260215T110000
DTEND;TZID=Australia/Sydney:20260215T140000
DTSTAMP:20260420T080442
CREATED:20251002T033334Z
LAST-MODIFIED:20251002T033334Z
UID:10004481-1771153200-1771164000@schoenstatt.org.au
SUMMARY:Monthly Gathering for Men
DESCRIPTION:Come and be part of something extraordinary at the Schoenstatt Mulgoa Shrine! On the third Sunday of each month\, we invite all men to join us for Mass\, Fellowship\, and Formation—a chance to connect\, grow\, and find deeper meaning in life.\nNestled at the foot of the majestic Blue Mountains\, this Spiritual Oasis is the perfect place to honour our Schoenstatt Mother Thrice Admiral (MTA) and share in the support of like-minded men seeking purpose and inspiration.\n\nDon’t miss this transformative experience! For details\, see our flyer\, email mensbranch@schoenstatt.org.au\n\nWe’re saving a place for you—will you answer the call? Meet at the Shrine after Mass.
URL:https://schoenstatt.org.au/event/monthly-gathering-for-men/2026-02-15/
LOCATION:Mount Schoenstatt\, 230 Fairlight Road\, Mulgoa\, NSW\, 2745\, Australia
ATTACH;FMTTYPE=image/jpeg:https://schoenstatt.org.au/wp-content/uploads/2025/10/Covenant-Sundays-Flyer-Landscape-scaled.jpg
ORGANIZER;CN="Jim Jankiewicz":MAILTO:mensbranch@schoenstatt.org.au
END:VEVENT
BEGIN:VEVENT
DTSTART;TZID=Australia/Sydney:20260216T070000
DTEND;TZID=Australia/Sydney:20260216T074500
DTSTAMP:20260420T080442
CREATED:20250401T224454Z
LAST-MODIFIED:20260223T025648Z
UID:10001299-1771225200-1771227900@schoenstatt.org.au
SUMMARY:Holy Mass
DESCRIPTION:
URL:https://schoenstatt.org.au/event/7am-holy-mass-5/2026-02-16/
LOCATION:Joseph Kentenich House – Mount Schoenstatt\, 230 Fairlight Road\, Mulgoa\, NSW\, 2745\, Australia
CATEGORIES:Holy Mass
END:VEVENT
BEGIN:VEVENT
DTSTART;TZID=Australia/Sydney:20260217T070000
DTEND;TZID=Australia/Sydney:20260217T074500
DTSTAMP:20260420T080442
CREATED:20250401T224454Z
LAST-MODIFIED:20260223T025648Z
UID:10001300-1771311600-1771314300@schoenstatt.org.au
SUMMARY:Holy Mass
DESCRIPTION:
URL:https://schoenstatt.org.au/event/7am-holy-mass-5/2026-02-17/
LOCATION:Joseph Kentenich House – Mount Schoenstatt\, 230 Fairlight Road\, Mulgoa\, NSW\, 2745\, Australia
CATEGORIES:Holy Mass
END:VEVENT
BEGIN:VEVENT
DTSTART;TZID=Australia/Sydney:20260218T070000
DTEND;TZID=Australia/Sydney:20260218T074500
DTSTAMP:20260420T080442
CREATED:20250401T224454Z
LAST-MODIFIED:20260223T025648Z
UID:10001301-1771398000-1771400700@schoenstatt.org.au
SUMMARY:Holy Mass
DESCRIPTION:
URL:https://schoenstatt.org.au/event/7am-holy-mass-5/2026-02-18/
LOCATION:Joseph Kentenich House – Mount Schoenstatt\, 230 Fairlight Road\, Mulgoa\, NSW\, 2745\, Australia
CATEGORIES:Holy Mass
END:VEVENT
BEGIN:VEVENT
DTSTART;TZID=Australia/Sydney:20260219T110000
DTEND;TZID=Australia/Sydney:20260219T120000
DTSTAMP:20260420T080442
CREATED:20220330T030739Z
LAST-MODIFIED:20260223T025907Z
UID:10002284-1771498800-1771502400@schoenstatt.org.au
SUMMARY:Holy Mass
DESCRIPTION:
URL:https://schoenstatt.org.au/event/holy-mass/2026-02-19/
LOCATION:Family Hall – Mount Schoenstatt\, 230 Fairlight Rd\, Mulgoa\, New South Wales\, 2745\, Australia
CATEGORIES:Holy Mass
END:VEVENT
BEGIN:VEVENT
DTSTART;TZID=Australia/Sydney:20260220T070000
DTEND;TZID=Australia/Sydney:20260220T074500
DTSTAMP:20260420T080442
CREATED:20250401T224454Z
LAST-MODIFIED:20260223T025648Z
UID:10001302-1771570800-1771573500@schoenstatt.org.au
SUMMARY:Holy Mass
DESCRIPTION:
URL:https://schoenstatt.org.au/event/7am-holy-mass-5/2026-02-20/
LOCATION:Joseph Kentenich House – Mount Schoenstatt\, 230 Fairlight Road\, Mulgoa\, NSW\, 2745\, Australia
CATEGORIES:Holy Mass
END:VEVENT
BEGIN:VEVENT
DTSTART;TZID=Australia/Sydney:20260221T070000
DTEND;TZID=Australia/Sydney:20260221T074500
DTSTAMP:20260420T080442
CREATED:20250401T224454Z
LAST-MODIFIED:20260223T025648Z
UID:10001303-1771657200-1771659900@schoenstatt.org.au
SUMMARY:Holy Mass
DESCRIPTION:
URL:https://schoenstatt.org.au/event/7am-holy-mass-5/2026-02-21/
LOCATION:Joseph Kentenich House – Mount Schoenstatt\, 230 Fairlight Road\, Mulgoa\, NSW\, 2745\, Australia
CATEGORIES:Holy Mass
END:VEVENT
BEGIN:VEVENT
DTSTART;TZID=Australia/Sydney:20260222T110000
DTEND;TZID=Australia/Sydney:20260222T120000
DTSTAMP:20260420T080442
CREATED:20220330T031013Z
LAST-MODIFIED:20250401T225336Z
UID:10002090-1771758000-1771761600@schoenstatt.org.au
SUMMARY:Holy Mass
DESCRIPTION:
URL:https://schoenstatt.org.au/event/holy-mass-2/2026-02-22/
LOCATION:Family Hall – Mount Schoenstatt\, 230 Fairlight Rd\, Mulgoa\, New South Wales\, 2745\, Australia
CATEGORIES:Holy Mass
END:VEVENT
BEGIN:VEVENT
DTSTART;TZID=Australia/Sydney:20260223T070000
DTEND;TZID=Australia/Sydney:20260223T074500
DTSTAMP:20260420T080442
CREATED:20250401T224454Z
LAST-MODIFIED:20260223T025648Z
UID:10001304-1771830000-1771832700@schoenstatt.org.au
SUMMARY:Holy Mass
DESCRIPTION:
URL:https://schoenstatt.org.au/event/7am-holy-mass-5/2026-02-23/
LOCATION:Joseph Kentenich House – Mount Schoenstatt\, 230 Fairlight Road\, Mulgoa\, NSW\, 2745\, Australia
CATEGORIES:Holy Mass
END:VEVENT
BEGIN:VEVENT
DTSTART;TZID=Australia/Sydney:20260224T070000
DTEND;TZID=Australia/Sydney:20260224T074500
DTSTAMP:20260420T080442
CREATED:20250401T224454Z
LAST-MODIFIED:20260223T025648Z
UID:10001305-1771916400-1771919100@schoenstatt.org.au
SUMMARY:Holy Mass
DESCRIPTION:
URL:https://schoenstatt.org.au/event/7am-holy-mass-5/2026-02-24/
LOCATION:Joseph Kentenich House – Mount Schoenstatt\, 230 Fairlight Road\, Mulgoa\, NSW\, 2745\, Australia
CATEGORIES:Holy Mass
END:VEVENT
BEGIN:VEVENT
DTSTART;TZID=Australia/Sydney:20260225T070000
DTEND;TZID=Australia/Sydney:20260225T074500
DTSTAMP:20260420T080442
CREATED:20250401T224454Z
LAST-MODIFIED:20260223T025648Z
UID:10001306-1772002800-1772005500@schoenstatt.org.au
SUMMARY:Holy Mass
DESCRIPTION:
URL:https://schoenstatt.org.au/event/7am-holy-mass-5/2026-02-25/
LOCATION:Joseph Kentenich House – Mount Schoenstatt\, 230 Fairlight Road\, Mulgoa\, NSW\, 2745\, Australia
CATEGORIES:Holy Mass
END:VEVENT
END:VCALENDAR