BEGIN:VCALENDAR
VERSION:2.0
PRODID:-//Schoenstatt Australia - ECPv6.15.20//NONSGML v1.0//EN
CALSCALE:GREGORIAN
METHOD:PUBLISH
X-WR-CALNAME:Schoenstatt Australia
X-ORIGINAL-URL:https://schoenstatt.org.au
X-WR-CALDESC:Events for Schoenstatt Australia
REFRESH-INTERVAL;VALUE=DURATION:PT1H
X-Robots-Tag:noindex
X-PUBLISHED-TTL:PT1H
BEGIN:VTIMEZONE
TZID:Australia/Sydney
BEGIN:STANDARD
TZOFFSETFROM:+1100
TZOFFSETTO:+1000
TZNAME:AEST
DTSTART:20250405T160000
END:STANDARD
BEGIN:DAYLIGHT
TZOFFSETFROM:+1000
TZOFFSETTO:+1100
TZNAME:AEDT
DTSTART:20251004T160000
END:DAYLIGHT
BEGIN:STANDARD
TZOFFSETFROM:+1100
TZOFFSETTO:+1000
TZNAME:AEST
DTSTART:20260404T160000
END:STANDARD
BEGIN:DAYLIGHT
TZOFFSETFROM:+1000
TZOFFSETTO:+1100
TZNAME:AEDT
DTSTART:20261003T160000
END:DAYLIGHT
BEGIN:STANDARD
TZOFFSETFROM:+1100
TZOFFSETTO:+1000
TZNAME:AEST
DTSTART:20270403T160000
END:STANDARD
BEGIN:DAYLIGHT
TZOFFSETFROM:+1000
TZOFFSETTO:+1100
TZNAME:AEDT
DTSTART:20271002T160000
END:DAYLIGHT
END:VTIMEZONE
BEGIN:VEVENT
DTSTART;TZID=Australia/Sydney:20261201T070000
DTEND;TZID=Australia/Sydney:20261201T074500
DTSTAMP:20260420T221123
CREATED:20250401T224454Z
LAST-MODIFIED:20260223T025648Z
UID:10001505-1796108400-1796111100@schoenstatt.org.au
SUMMARY:Holy Mass
DESCRIPTION:
URL:https://schoenstatt.org.au/event/7am-holy-mass-5/2026-12-01/
LOCATION:Joseph Kentenich House – Mount Schoenstatt\, 230 Fairlight Road\, Mulgoa\, NSW\, 2745\, Australia
CATEGORIES:Holy Mass
END:VEVENT
BEGIN:VEVENT
DTSTART;TZID=Australia/Sydney:20261202T070000
DTEND;TZID=Australia/Sydney:20261202T074500
DTSTAMP:20260420T221123
CREATED:20250401T224454Z
LAST-MODIFIED:20260223T025648Z
UID:10001506-1796194800-1796197500@schoenstatt.org.au
SUMMARY:Holy Mass
DESCRIPTION:
URL:https://schoenstatt.org.au/event/7am-holy-mass-5/2026-12-02/
LOCATION:Joseph Kentenich House – Mount Schoenstatt\, 230 Fairlight Road\, Mulgoa\, NSW\, 2745\, Australia
CATEGORIES:Holy Mass
END:VEVENT
BEGIN:VEVENT
DTSTART;TZID=Australia/Sydney:20261203T110000
DTEND;TZID=Australia/Sydney:20261203T120000
DTSTAMP:20260420T221123
CREATED:20220330T030739Z
LAST-MODIFIED:20260223T025907Z
UID:10002325-1796295600-1796299200@schoenstatt.org.au
SUMMARY:Holy Mass
DESCRIPTION:
URL:https://schoenstatt.org.au/event/holy-mass/2026-12-03/
LOCATION:Family Hall – Mount Schoenstatt\, 230 Fairlight Rd\, Mulgoa\, New South Wales\, 2745\, Australia
CATEGORIES:Holy Mass
END:VEVENT
BEGIN:VEVENT
DTSTART;TZID=Australia/Sydney:20261204T070000
DTEND;TZID=Australia/Sydney:20261204T074500
DTSTAMP:20260420T221123
CREATED:20250401T224454Z
LAST-MODIFIED:20260223T025648Z
UID:10001507-1796367600-1796370300@schoenstatt.org.au
SUMMARY:Holy Mass
DESCRIPTION:
URL:https://schoenstatt.org.au/event/7am-holy-mass-5/2026-12-04/
LOCATION:Joseph Kentenich House – Mount Schoenstatt\, 230 Fairlight Road\, Mulgoa\, NSW\, 2745\, Australia
CATEGORIES:Holy Mass
END:VEVENT
BEGIN:VEVENT
DTSTART;TZID=Australia/Sydney:20261205T070000
DTEND;TZID=Australia/Sydney:20261205T074500
DTSTAMP:20260420T221123
CREATED:20250401T224454Z
LAST-MODIFIED:20260223T025648Z
UID:10001508-1796454000-1796456700@schoenstatt.org.au
SUMMARY:Holy Mass
DESCRIPTION:
URL:https://schoenstatt.org.au/event/7am-holy-mass-5/2026-12-05/
LOCATION:Joseph Kentenich House – Mount Schoenstatt\, 230 Fairlight Road\, Mulgoa\, NSW\, 2745\, Australia
CATEGORIES:Holy Mass
END:VEVENT
BEGIN:VEVENT
DTSTART;TZID=Australia/Sydney:20261206T110000
DTEND;TZID=Australia/Sydney:20261206T120000
DTSTAMP:20260420T221123
CREATED:20220330T031013Z
LAST-MODIFIED:20250401T225336Z
UID:10002131-1796554800-1796558400@schoenstatt.org.au
SUMMARY:Holy Mass
DESCRIPTION:
URL:https://schoenstatt.org.au/event/holy-mass-2/2026-12-06/
LOCATION:Family Hall – Mount Schoenstatt\, 230 Fairlight Rd\, Mulgoa\, New South Wales\, 2745\, Australia
CATEGORIES:Holy Mass
END:VEVENT
BEGIN:VEVENT
DTSTART;TZID=Australia/Sydney:20261207T070000
DTEND;TZID=Australia/Sydney:20261207T074500
DTSTAMP:20260420T221123
CREATED:20250401T224454Z
LAST-MODIFIED:20260223T025648Z
UID:10001509-1796626800-1796629500@schoenstatt.org.au
SUMMARY:Holy Mass
DESCRIPTION:
URL:https://schoenstatt.org.au/event/7am-holy-mass-5/2026-12-07/
LOCATION:Joseph Kentenich House – Mount Schoenstatt\, 230 Fairlight Road\, Mulgoa\, NSW\, 2745\, Australia
CATEGORIES:Holy Mass
END:VEVENT
BEGIN:VEVENT
DTSTART;TZID=Australia/Sydney:20261208T070000
DTEND;TZID=Australia/Sydney:20261208T074500
DTSTAMP:20260420T221123
CREATED:20250401T224454Z
LAST-MODIFIED:20260223T025648Z
UID:10001510-1796713200-1796715900@schoenstatt.org.au
SUMMARY:Holy Mass
DESCRIPTION:
URL:https://schoenstatt.org.au/event/7am-holy-mass-5/2026-12-08/
LOCATION:Joseph Kentenich House – Mount Schoenstatt\, 230 Fairlight Road\, Mulgoa\, NSW\, 2745\, Australia
CATEGORIES:Holy Mass
END:VEVENT
BEGIN:VEVENT
DTSTART;TZID=Australia/Sydney:20261209T070000
DTEND;TZID=Australia/Sydney:20261209T074500
DTSTAMP:20260420T221123
CREATED:20250401T224454Z
LAST-MODIFIED:20260223T025648Z
UID:10001511-1796799600-1796802300@schoenstatt.org.au
SUMMARY:Holy Mass
DESCRIPTION:
URL:https://schoenstatt.org.au/event/7am-holy-mass-5/2026-12-09/
LOCATION:Joseph Kentenich House – Mount Schoenstatt\, 230 Fairlight Road\, Mulgoa\, NSW\, 2745\, Australia
CATEGORIES:Holy Mass
END:VEVENT
BEGIN:VEVENT
DTSTART;TZID=Australia/Sydney:20261209T200000
DTEND;TZID=Australia/Sydney:20261209T210000
DTSTAMP:20260420T221123
CREATED:20250203T011608Z
LAST-MODIFIED:20260128T225837Z
UID:10004515-1796846400-1796850000@schoenstatt.org.au
SUMMARY:Men at The Shrine - Monthly Formation\, Adoration & Fellowship
DESCRIPTION:All men are invited to spend time with the Lord and His Mother at the Schoenstatt Shrine\, Mulgoa\, on the second Wednesday of each month\, 8-9pm.\nThe hour includes a brief reflection by Father Pawel Barszczewski OP\, followed by silent adoration of the Blessed Sacrament; confessions available. A cuppa and good conversation follow. \nFor further information\, please contact Bernard 0416 106 871
URL:https://schoenstatt.org.au/event/men-at-the-shrine-monthly-formation-adoration-fellowship/2026-12-09/
LOCATION:Mount Schoenstatt\, 230 Fairlight Road\, Mulgoa\, NSW\, 2745\, Australia
ATTACH;FMTTYPE=image/jpeg:https://schoenstatt.org.au/wp-content/uploads/2025/02/Men-at-the-Shrine-Flyer-2026.jpg
END:VEVENT
BEGIN:VEVENT
DTSTART;TZID=Australia/Sydney:20261210T110000
DTEND;TZID=Australia/Sydney:20261210T120000
DTSTAMP:20260420T221123
CREATED:20220330T030739Z
LAST-MODIFIED:20260223T025907Z
UID:10002326-1796900400-1796904000@schoenstatt.org.au
SUMMARY:Holy Mass
DESCRIPTION:
URL:https://schoenstatt.org.au/event/holy-mass/2026-12-10/
LOCATION:Family Hall – Mount Schoenstatt\, 230 Fairlight Rd\, Mulgoa\, New South Wales\, 2745\, Australia
CATEGORIES:Holy Mass
END:VEVENT
BEGIN:VEVENT
DTSTART;TZID=Australia/Sydney:20261211T070000
DTEND;TZID=Australia/Sydney:20261211T074500
DTSTAMP:20260420T221123
CREATED:20250401T224454Z
LAST-MODIFIED:20260223T025648Z
UID:10001512-1796972400-1796975100@schoenstatt.org.au
SUMMARY:Holy Mass
DESCRIPTION:
URL:https://schoenstatt.org.au/event/7am-holy-mass-5/2026-12-11/
LOCATION:Joseph Kentenich House – Mount Schoenstatt\, 230 Fairlight Road\, Mulgoa\, NSW\, 2745\, Australia
CATEGORIES:Holy Mass
END:VEVENT
BEGIN:VEVENT
DTSTART;TZID=Australia/Sydney:20261212T070000
DTEND;TZID=Australia/Sydney:20261212T074500
DTSTAMP:20260420T221123
CREATED:20250401T224454Z
LAST-MODIFIED:20260223T025648Z
UID:10001513-1797058800-1797061500@schoenstatt.org.au
SUMMARY:Holy Mass
DESCRIPTION:
URL:https://schoenstatt.org.au/event/7am-holy-mass-5/2026-12-12/
LOCATION:Joseph Kentenich House – Mount Schoenstatt\, 230 Fairlight Road\, Mulgoa\, NSW\, 2745\, Australia
CATEGORIES:Holy Mass
END:VEVENT
BEGIN:VEVENT
DTSTART;TZID=Australia/Sydney:20261213T110000
DTEND;TZID=Australia/Sydney:20261213T120000
DTSTAMP:20260420T221123
CREATED:20220330T031013Z
LAST-MODIFIED:20250401T225336Z
UID:10002132-1797159600-1797163200@schoenstatt.org.au
SUMMARY:Holy Mass
DESCRIPTION:
URL:https://schoenstatt.org.au/event/holy-mass-2/2026-12-13/
LOCATION:Family Hall – Mount Schoenstatt\, 230 Fairlight Rd\, Mulgoa\, New South Wales\, 2745\, Australia
CATEGORIES:Holy Mass
END:VEVENT
BEGIN:VEVENT
DTSTART;TZID=Australia/Sydney:20261213T190000
DTEND;TZID=Australia/Sydney:20261213T200000
DTSTAMP:20260420T221123
CREATED:20260107T015944Z
LAST-MODIFIED:20260107T020019Z
UID:10004499-1797188400-1797192000@schoenstatt.org.au
SUMMARY:Shrine Time – Holy Hour for Youth & Young Adults
DESCRIPTION:Join us every second Sunday of the month for Shrine Time at the Mount Schoenstatt Shrine. \nExperience praise\, worship\, silence\, prayer\, reflection\, confession\, and benediction. \nA social gathering will follow. \nFor more information\, contact Sr M Rita at srrita@schoenstatt.org.au or 0493 026 628.
URL:https://schoenstatt.org.au/event/shrine-time-holy-hour-for-youth-young-adults-5/2026-12-13/
LOCATION:Mount Schoenstatt\, 230 Fairlight Road\, Mulgoa\, NSW\, 2745\, Australia
ATTACH;FMTTYPE=image/jpeg:https://schoenstatt.org.au/wp-content/uploads/2026/01/2026-Shrine-Time-1.jpg
ORGANIZER;CN="Sr M Rita":MAILTO:srrita@schoenstatt.org.au
END:VEVENT
BEGIN:VEVENT
DTSTART;TZID=Australia/Sydney:20261214T070000
DTEND;TZID=Australia/Sydney:20261214T074500
DTSTAMP:20260420T221123
CREATED:20250401T224454Z
LAST-MODIFIED:20260223T025648Z
UID:10001514-1797231600-1797234300@schoenstatt.org.au
SUMMARY:Holy Mass
DESCRIPTION:
URL:https://schoenstatt.org.au/event/7am-holy-mass-5/2026-12-14/
LOCATION:Joseph Kentenich House – Mount Schoenstatt\, 230 Fairlight Road\, Mulgoa\, NSW\, 2745\, Australia
CATEGORIES:Holy Mass
END:VEVENT
BEGIN:VEVENT
DTSTART;TZID=Australia/Sydney:20261215T070000
DTEND;TZID=Australia/Sydney:20261215T074500
DTSTAMP:20260420T221123
CREATED:20250401T224454Z
LAST-MODIFIED:20260223T025648Z
UID:10001515-1797318000-1797320700@schoenstatt.org.au
SUMMARY:Holy Mass
DESCRIPTION:
URL:https://schoenstatt.org.au/event/7am-holy-mass-5/2026-12-15/
LOCATION:Joseph Kentenich House – Mount Schoenstatt\, 230 Fairlight Road\, Mulgoa\, NSW\, 2745\, Australia
CATEGORIES:Holy Mass
END:VEVENT
BEGIN:VEVENT
DTSTART;TZID=Australia/Sydney:20261216T070000
DTEND;TZID=Australia/Sydney:20261216T074500
DTSTAMP:20260420T221123
CREATED:20250401T224454Z
LAST-MODIFIED:20260223T025648Z
UID:10001516-1797404400-1797407100@schoenstatt.org.au
SUMMARY:Holy Mass
DESCRIPTION:
URL:https://schoenstatt.org.au/event/7am-holy-mass-5/2026-12-16/
LOCATION:Joseph Kentenich House – Mount Schoenstatt\, 230 Fairlight Road\, Mulgoa\, NSW\, 2745\, Australia
CATEGORIES:Holy Mass
END:VEVENT
BEGIN:VEVENT
DTSTART;TZID=Australia/Sydney:20261217T110000
DTEND;TZID=Australia/Sydney:20261217T120000
DTSTAMP:20260420T221123
CREATED:20220330T030739Z
LAST-MODIFIED:20260223T025907Z
UID:10002327-1797505200-1797508800@schoenstatt.org.au
SUMMARY:Holy Mass
DESCRIPTION:
URL:https://schoenstatt.org.au/event/holy-mass/2026-12-17/
LOCATION:Family Hall – Mount Schoenstatt\, 230 Fairlight Rd\, Mulgoa\, New South Wales\, 2745\, Australia
CATEGORIES:Holy Mass
END:VEVENT
BEGIN:VEVENT
DTSTART;TZID=Australia/Sydney:20261218T070000
DTEND;TZID=Australia/Sydney:20261218T074500
DTSTAMP:20260420T221123
CREATED:20250401T224454Z
LAST-MODIFIED:20260223T025648Z
UID:10001517-1797577200-1797579900@schoenstatt.org.au
SUMMARY:Holy Mass
DESCRIPTION:
URL:https://schoenstatt.org.au/event/7am-holy-mass-5/2026-12-18/
LOCATION:Joseph Kentenich House – Mount Schoenstatt\, 230 Fairlight Road\, Mulgoa\, NSW\, 2745\, Australia
CATEGORIES:Holy Mass
END:VEVENT
BEGIN:VEVENT
DTSTART;TZID=Australia/Sydney:20261219T070000
DTEND;TZID=Australia/Sydney:20261219T074500
DTSTAMP:20260420T221123
CREATED:20250401T224454Z
LAST-MODIFIED:20260223T025648Z
UID:10001518-1797663600-1797666300@schoenstatt.org.au
SUMMARY:Holy Mass
DESCRIPTION:
URL:https://schoenstatt.org.au/event/7am-holy-mass-5/2026-12-19/
LOCATION:Joseph Kentenich House – Mount Schoenstatt\, 230 Fairlight Road\, Mulgoa\, NSW\, 2745\, Australia
CATEGORIES:Holy Mass
END:VEVENT
BEGIN:VEVENT
DTSTART;TZID=Australia/Sydney:20261220T110000
DTEND;TZID=Australia/Sydney:20261220T120000
DTSTAMP:20260420T221123
CREATED:20220330T031013Z
LAST-MODIFIED:20250401T225336Z
UID:10002133-1797764400-1797768000@schoenstatt.org.au
SUMMARY:Holy Mass
DESCRIPTION:
URL:https://schoenstatt.org.au/event/holy-mass-2/2026-12-20/
LOCATION:Family Hall – Mount Schoenstatt\, 230 Fairlight Rd\, Mulgoa\, New South Wales\, 2745\, Australia
CATEGORIES:Holy Mass
END:VEVENT
BEGIN:VEVENT
DTSTART;TZID=Australia/Sydney:20261221T070000
DTEND;TZID=Australia/Sydney:20261221T074500
DTSTAMP:20260420T221123
CREATED:20250401T224454Z
LAST-MODIFIED:20260223T025648Z
UID:10001519-1797836400-1797839100@schoenstatt.org.au
SUMMARY:Holy Mass
DESCRIPTION:
URL:https://schoenstatt.org.au/event/7am-holy-mass-5/2026-12-21/
LOCATION:Joseph Kentenich House – Mount Schoenstatt\, 230 Fairlight Road\, Mulgoa\, NSW\, 2745\, Australia
CATEGORIES:Holy Mass
END:VEVENT
BEGIN:VEVENT
DTSTART;TZID=Australia/Sydney:20261222T070000
DTEND;TZID=Australia/Sydney:20261222T074500
DTSTAMP:20260420T221123
CREATED:20250401T224454Z
LAST-MODIFIED:20260223T025648Z
UID:10001520-1797922800-1797925500@schoenstatt.org.au
SUMMARY:Holy Mass
DESCRIPTION:
URL:https://schoenstatt.org.au/event/7am-holy-mass-5/2026-12-22/
LOCATION:Joseph Kentenich House – Mount Schoenstatt\, 230 Fairlight Road\, Mulgoa\, NSW\, 2745\, Australia
CATEGORIES:Holy Mass
END:VEVENT
BEGIN:VEVENT
DTSTART;TZID=Australia/Sydney:20261223T070000
DTEND;TZID=Australia/Sydney:20261223T074500
DTSTAMP:20260420T221123
CREATED:20250401T224454Z
LAST-MODIFIED:20260223T025648Z
UID:10001521-1798009200-1798011900@schoenstatt.org.au
SUMMARY:Holy Mass
DESCRIPTION:
URL:https://schoenstatt.org.au/event/7am-holy-mass-5/2026-12-23/
LOCATION:Joseph Kentenich House – Mount Schoenstatt\, 230 Fairlight Road\, Mulgoa\, NSW\, 2745\, Australia
CATEGORIES:Holy Mass
END:VEVENT
BEGIN:VEVENT
DTSTART;TZID=Australia/Sydney:20261224T110000
DTEND;TZID=Australia/Sydney:20261224T120000
DTSTAMP:20260420T221123
CREATED:20220330T030739Z
LAST-MODIFIED:20260223T025907Z
UID:10002328-1798110000-1798113600@schoenstatt.org.au
SUMMARY:Holy Mass
DESCRIPTION:
URL:https://schoenstatt.org.au/event/holy-mass/2026-12-24/
LOCATION:Family Hall – Mount Schoenstatt\, 230 Fairlight Rd\, Mulgoa\, New South Wales\, 2745\, Australia
CATEGORIES:Holy Mass
END:VEVENT
BEGIN:VEVENT
DTSTART;TZID=Australia/Sydney:20261225T070000
DTEND;TZID=Australia/Sydney:20261225T074500
DTSTAMP:20260420T221123
CREATED:20250401T224454Z
LAST-MODIFIED:20260223T025648Z
UID:10001522-1798182000-1798184700@schoenstatt.org.au
SUMMARY:Holy Mass
DESCRIPTION:
URL:https://schoenstatt.org.au/event/7am-holy-mass-5/2026-12-25/
LOCATION:Joseph Kentenich House – Mount Schoenstatt\, 230 Fairlight Road\, Mulgoa\, NSW\, 2745\, Australia
CATEGORIES:Holy Mass
END:VEVENT
BEGIN:VEVENT
DTSTART;TZID=Australia/Sydney:20261226T070000
DTEND;TZID=Australia/Sydney:20261226T074500
DTSTAMP:20260420T221123
CREATED:20250401T224454Z
LAST-MODIFIED:20260223T025648Z
UID:10001523-1798268400-1798271100@schoenstatt.org.au
SUMMARY:Holy Mass
DESCRIPTION:
URL:https://schoenstatt.org.au/event/7am-holy-mass-5/2026-12-26/
LOCATION:Joseph Kentenich House – Mount Schoenstatt\, 230 Fairlight Road\, Mulgoa\, NSW\, 2745\, Australia
CATEGORIES:Holy Mass
END:VEVENT
BEGIN:VEVENT
DTSTART;TZID=Australia/Sydney:20261227T110000
DTEND;TZID=Australia/Sydney:20261227T120000
DTSTAMP:20260420T221123
CREATED:20220330T031013Z
LAST-MODIFIED:20250401T225336Z
UID:10002134-1798369200-1798372800@schoenstatt.org.au
SUMMARY:Holy Mass
DESCRIPTION:
URL:https://schoenstatt.org.au/event/holy-mass-2/2026-12-27/
LOCATION:Family Hall – Mount Schoenstatt\, 230 Fairlight Rd\, Mulgoa\, New South Wales\, 2745\, Australia
CATEGORIES:Holy Mass
END:VEVENT
BEGIN:VEVENT
DTSTART;TZID=Australia/Sydney:20261228T070000
DTEND;TZID=Australia/Sydney:20261228T074500
DTSTAMP:20260420T221123
CREATED:20250401T224454Z
LAST-MODIFIED:20260223T025648Z
UID:10001524-1798441200-1798443900@schoenstatt.org.au
SUMMARY:Holy Mass
DESCRIPTION:
URL:https://schoenstatt.org.au/event/7am-holy-mass-5/2026-12-28/
LOCATION:Joseph Kentenich House – Mount Schoenstatt\, 230 Fairlight Road\, Mulgoa\, NSW\, 2745\, Australia
CATEGORIES:Holy Mass
END:VEVENT
END:VCALENDAR