BEGIN:VCALENDAR
VERSION:2.0
PRODID:-//Schoenstatt Australia - ECPv6.15.20//NONSGML v1.0//EN
CALSCALE:GREGORIAN
METHOD:PUBLISH
X-WR-CALNAME:Schoenstatt Australia
X-ORIGINAL-URL:https://schoenstatt.org.au
X-WR-CALDESC:Events for Schoenstatt Australia
REFRESH-INTERVAL;VALUE=DURATION:PT1H
X-Robots-Tag:noindex
X-PUBLISHED-TTL:PT1H
BEGIN:VTIMEZONE
TZID:Australia/Sydney
BEGIN:STANDARD
TZOFFSETFROM:+1100
TZOFFSETTO:+1000
TZNAME:AEST
DTSTART:20260404T160000
END:STANDARD
BEGIN:DAYLIGHT
TZOFFSETFROM:+1000
TZOFFSETTO:+1100
TZNAME:AEDT
DTSTART:20261003T160000
END:DAYLIGHT
BEGIN:STANDARD
TZOFFSETFROM:+1100
TZOFFSETTO:+1000
TZNAME:AEST
DTSTART:20270403T160000
END:STANDARD
BEGIN:DAYLIGHT
TZOFFSETFROM:+1000
TZOFFSETTO:+1100
TZNAME:AEDT
DTSTART:20271002T160000
END:DAYLIGHT
BEGIN:STANDARD
TZOFFSETFROM:+1100
TZOFFSETTO:+1000
TZNAME:AEST
DTSTART:20280401T160000
END:STANDARD
BEGIN:DAYLIGHT
TZOFFSETFROM:+1000
TZOFFSETTO:+1100
TZNAME:AEDT
DTSTART:20280930T160000
END:DAYLIGHT
END:VTIMEZONE
BEGIN:VEVENT
DTSTART;TZID=Australia/Sydney:20270201T070000
DTEND;TZID=Australia/Sydney:20270201T074500
DTSTAMP:20260421T031410
CREATED:20250401T224454Z
LAST-MODIFIED:20260223T025648Z
UID:10001549-1801465200-1801467900@schoenstatt.org.au
SUMMARY:Holy Mass
DESCRIPTION:
URL:https://schoenstatt.org.au/event/7am-holy-mass-5/2027-02-01/
LOCATION:Joseph Kentenich House – Mount Schoenstatt\, 230 Fairlight Road\, Mulgoa\, NSW\, 2745\, Australia
CATEGORIES:Holy Mass
END:VEVENT
BEGIN:VEVENT
DTSTART;TZID=Australia/Sydney:20270202T070000
DTEND;TZID=Australia/Sydney:20270202T074500
DTSTAMP:20260421T031410
CREATED:20250401T224454Z
LAST-MODIFIED:20260223T025648Z
UID:10001550-1801551600-1801554300@schoenstatt.org.au
SUMMARY:Holy Mass
DESCRIPTION:
URL:https://schoenstatt.org.au/event/7am-holy-mass-5/2027-02-02/
LOCATION:Joseph Kentenich House – Mount Schoenstatt\, 230 Fairlight Road\, Mulgoa\, NSW\, 2745\, Australia
CATEGORIES:Holy Mass
END:VEVENT
BEGIN:VEVENT
DTSTART;TZID=Australia/Sydney:20270203T070000
DTEND;TZID=Australia/Sydney:20270203T074500
DTSTAMP:20260421T031410
CREATED:20250401T224454Z
LAST-MODIFIED:20260223T025648Z
UID:10001551-1801638000-1801640700@schoenstatt.org.au
SUMMARY:Holy Mass
DESCRIPTION:
URL:https://schoenstatt.org.au/event/7am-holy-mass-5/2027-02-03/
LOCATION:Joseph Kentenich House – Mount Schoenstatt\, 230 Fairlight Road\, Mulgoa\, NSW\, 2745\, Australia
CATEGORIES:Holy Mass
END:VEVENT
BEGIN:VEVENT
DTSTART;TZID=Australia/Sydney:20270204T110000
DTEND;TZID=Australia/Sydney:20270204T120000
DTSTAMP:20260421T031410
CREATED:20220330T030739Z
LAST-MODIFIED:20260223T025907Z
UID:10002334-1801738800-1801742400@schoenstatt.org.au
SUMMARY:Holy Mass
DESCRIPTION:
URL:https://schoenstatt.org.au/event/holy-mass/2027-02-04/
LOCATION:Family Hall – Mount Schoenstatt\, 230 Fairlight Rd\, Mulgoa\, New South Wales\, 2745\, Australia
CATEGORIES:Holy Mass
END:VEVENT
BEGIN:VEVENT
DTSTART;TZID=Australia/Sydney:20270205T070000
DTEND;TZID=Australia/Sydney:20270205T074500
DTSTAMP:20260421T031410
CREATED:20250401T224454Z
LAST-MODIFIED:20260223T025648Z
UID:10001552-1801810800-1801813500@schoenstatt.org.au
SUMMARY:Holy Mass
DESCRIPTION:
URL:https://schoenstatt.org.au/event/7am-holy-mass-5/2027-02-05/
LOCATION:Joseph Kentenich House – Mount Schoenstatt\, 230 Fairlight Road\, Mulgoa\, NSW\, 2745\, Australia
CATEGORIES:Holy Mass
END:VEVENT
BEGIN:VEVENT
DTSTART;TZID=Australia/Sydney:20270206T070000
DTEND;TZID=Australia/Sydney:20270206T074500
DTSTAMP:20260421T031410
CREATED:20250401T224454Z
LAST-MODIFIED:20260223T025648Z
UID:10001553-1801897200-1801899900@schoenstatt.org.au
SUMMARY:Holy Mass
DESCRIPTION:
URL:https://schoenstatt.org.au/event/7am-holy-mass-5/2027-02-06/
LOCATION:Joseph Kentenich House – Mount Schoenstatt\, 230 Fairlight Road\, Mulgoa\, NSW\, 2745\, Australia
CATEGORIES:Holy Mass
END:VEVENT
BEGIN:VEVENT
DTSTART;TZID=Australia/Sydney:20270207T110000
DTEND;TZID=Australia/Sydney:20270207T120000
DTSTAMP:20260421T031410
CREATED:20220330T031013Z
LAST-MODIFIED:20250401T225336Z
UID:10002140-1801998000-1802001600@schoenstatt.org.au
SUMMARY:Holy Mass
DESCRIPTION:
URL:https://schoenstatt.org.au/event/holy-mass-2/2027-02-07/
LOCATION:Family Hall – Mount Schoenstatt\, 230 Fairlight Rd\, Mulgoa\, New South Wales\, 2745\, Australia
CATEGORIES:Holy Mass
END:VEVENT
BEGIN:VEVENT
DTSTART;TZID=Australia/Sydney:20270208T070000
DTEND;TZID=Australia/Sydney:20270208T074500
DTSTAMP:20260421T031410
CREATED:20250401T224454Z
LAST-MODIFIED:20260223T025648Z
UID:10001554-1802070000-1802072700@schoenstatt.org.au
SUMMARY:Holy Mass
DESCRIPTION:
URL:https://schoenstatt.org.au/event/7am-holy-mass-5/2027-02-08/
LOCATION:Joseph Kentenich House – Mount Schoenstatt\, 230 Fairlight Road\, Mulgoa\, NSW\, 2745\, Australia
CATEGORIES:Holy Mass
END:VEVENT
BEGIN:VEVENT
DTSTART;TZID=Australia/Sydney:20270209T070000
DTEND;TZID=Australia/Sydney:20270209T074500
DTSTAMP:20260421T031410
CREATED:20250401T224454Z
LAST-MODIFIED:20260223T025648Z
UID:10001555-1802156400-1802159100@schoenstatt.org.au
SUMMARY:Holy Mass
DESCRIPTION:
URL:https://schoenstatt.org.au/event/7am-holy-mass-5/2027-02-09/
LOCATION:Joseph Kentenich House – Mount Schoenstatt\, 230 Fairlight Road\, Mulgoa\, NSW\, 2745\, Australia
CATEGORIES:Holy Mass
END:VEVENT
BEGIN:VEVENT
DTSTART;TZID=Australia/Sydney:20270210T070000
DTEND;TZID=Australia/Sydney:20270210T074500
DTSTAMP:20260421T031410
CREATED:20250401T224454Z
LAST-MODIFIED:20260223T025648Z
UID:10001556-1802242800-1802245500@schoenstatt.org.au
SUMMARY:Holy Mass
DESCRIPTION:
URL:https://schoenstatt.org.au/event/7am-holy-mass-5/2027-02-10/
LOCATION:Joseph Kentenich House – Mount Schoenstatt\, 230 Fairlight Road\, Mulgoa\, NSW\, 2745\, Australia
CATEGORIES:Holy Mass
END:VEVENT
BEGIN:VEVENT
DTSTART;TZID=Australia/Sydney:20270211T110000
DTEND;TZID=Australia/Sydney:20270211T120000
DTSTAMP:20260421T031410
CREATED:20220330T030739Z
LAST-MODIFIED:20260223T025907Z
UID:10002335-1802343600-1802347200@schoenstatt.org.au
SUMMARY:Holy Mass
DESCRIPTION:
URL:https://schoenstatt.org.au/event/holy-mass/2027-02-11/
LOCATION:Family Hall – Mount Schoenstatt\, 230 Fairlight Rd\, Mulgoa\, New South Wales\, 2745\, Australia
CATEGORIES:Holy Mass
END:VEVENT
BEGIN:VEVENT
DTSTART;TZID=Australia/Sydney:20270212T070000
DTEND;TZID=Australia/Sydney:20270212T074500
DTSTAMP:20260421T031410
CREATED:20250401T224454Z
LAST-MODIFIED:20260223T025648Z
UID:10001557-1802415600-1802418300@schoenstatt.org.au
SUMMARY:Holy Mass
DESCRIPTION:
URL:https://schoenstatt.org.au/event/7am-holy-mass-5/2027-02-12/
LOCATION:Joseph Kentenich House – Mount Schoenstatt\, 230 Fairlight Road\, Mulgoa\, NSW\, 2745\, Australia
CATEGORIES:Holy Mass
END:VEVENT
BEGIN:VEVENT
DTSTART;TZID=Australia/Sydney:20270213T070000
DTEND;TZID=Australia/Sydney:20270213T074500
DTSTAMP:20260421T031410
CREATED:20250401T224454Z
LAST-MODIFIED:20260223T025648Z
UID:10001558-1802502000-1802504700@schoenstatt.org.au
SUMMARY:Holy Mass
DESCRIPTION:
URL:https://schoenstatt.org.au/event/7am-holy-mass-5/2027-02-13/
LOCATION:Joseph Kentenich House – Mount Schoenstatt\, 230 Fairlight Road\, Mulgoa\, NSW\, 2745\, Australia
CATEGORIES:Holy Mass
END:VEVENT
BEGIN:VEVENT
DTSTART;TZID=Australia/Sydney:20270214T110000
DTEND;TZID=Australia/Sydney:20270214T120000
DTSTAMP:20260421T031410
CREATED:20220330T031013Z
LAST-MODIFIED:20250401T225336Z
UID:10002141-1802602800-1802606400@schoenstatt.org.au
SUMMARY:Holy Mass
DESCRIPTION:
URL:https://schoenstatt.org.au/event/holy-mass-2/2027-02-14/
LOCATION:Family Hall – Mount Schoenstatt\, 230 Fairlight Rd\, Mulgoa\, New South Wales\, 2745\, Australia
CATEGORIES:Holy Mass
END:VEVENT
BEGIN:VEVENT
DTSTART;TZID=Australia/Sydney:20270215T070000
DTEND;TZID=Australia/Sydney:20270215T074500
DTSTAMP:20260421T031410
CREATED:20250401T224454Z
LAST-MODIFIED:20260223T025648Z
UID:10001559-1802674800-1802677500@schoenstatt.org.au
SUMMARY:Holy Mass
DESCRIPTION:
URL:https://schoenstatt.org.au/event/7am-holy-mass-5/2027-02-15/
LOCATION:Joseph Kentenich House – Mount Schoenstatt\, 230 Fairlight Road\, Mulgoa\, NSW\, 2745\, Australia
CATEGORIES:Holy Mass
END:VEVENT
BEGIN:VEVENT
DTSTART;TZID=Australia/Sydney:20270216T070000
DTEND;TZID=Australia/Sydney:20270216T074500
DTSTAMP:20260421T031410
CREATED:20250401T224454Z
LAST-MODIFIED:20260223T025648Z
UID:10001560-1802761200-1802763900@schoenstatt.org.au
SUMMARY:Holy Mass
DESCRIPTION:
URL:https://schoenstatt.org.au/event/7am-holy-mass-5/2027-02-16/
LOCATION:Joseph Kentenich House – Mount Schoenstatt\, 230 Fairlight Road\, Mulgoa\, NSW\, 2745\, Australia
CATEGORIES:Holy Mass
END:VEVENT
BEGIN:VEVENT
DTSTART;TZID=Australia/Sydney:20270217T070000
DTEND;TZID=Australia/Sydney:20270217T074500
DTSTAMP:20260421T031410
CREATED:20250401T224454Z
LAST-MODIFIED:20260223T025648Z
UID:10001561-1802847600-1802850300@schoenstatt.org.au
SUMMARY:Holy Mass
DESCRIPTION:
URL:https://schoenstatt.org.au/event/7am-holy-mass-5/2027-02-17/
LOCATION:Joseph Kentenich House – Mount Schoenstatt\, 230 Fairlight Road\, Mulgoa\, NSW\, 2745\, Australia
CATEGORIES:Holy Mass
END:VEVENT
BEGIN:VEVENT
DTSTART;TZID=Australia/Sydney:20270218T110000
DTEND;TZID=Australia/Sydney:20270218T120000
DTSTAMP:20260421T031410
CREATED:20220330T030739Z
LAST-MODIFIED:20260223T025907Z
UID:10002336-1802948400-1802952000@schoenstatt.org.au
SUMMARY:Holy Mass
DESCRIPTION:
URL:https://schoenstatt.org.au/event/holy-mass/2027-02-18/
LOCATION:Family Hall – Mount Schoenstatt\, 230 Fairlight Rd\, Mulgoa\, New South Wales\, 2745\, Australia
CATEGORIES:Holy Mass
END:VEVENT
BEGIN:VEVENT
DTSTART;TZID=Australia/Sydney:20270219T070000
DTEND;TZID=Australia/Sydney:20270219T074500
DTSTAMP:20260421T031410
CREATED:20250401T224454Z
LAST-MODIFIED:20260223T025648Z
UID:10001562-1803020400-1803023100@schoenstatt.org.au
SUMMARY:Holy Mass
DESCRIPTION:
URL:https://schoenstatt.org.au/event/7am-holy-mass-5/2027-02-19/
LOCATION:Joseph Kentenich House – Mount Schoenstatt\, 230 Fairlight Road\, Mulgoa\, NSW\, 2745\, Australia
CATEGORIES:Holy Mass
END:VEVENT
BEGIN:VEVENT
DTSTART;TZID=Australia/Sydney:20270220T070000
DTEND;TZID=Australia/Sydney:20270220T074500
DTSTAMP:20260421T031410
CREATED:20250401T224454Z
LAST-MODIFIED:20260223T025648Z
UID:10001563-1803106800-1803109500@schoenstatt.org.au
SUMMARY:Holy Mass
DESCRIPTION:
URL:https://schoenstatt.org.au/event/7am-holy-mass-5/2027-02-20/
LOCATION:Joseph Kentenich House – Mount Schoenstatt\, 230 Fairlight Road\, Mulgoa\, NSW\, 2745\, Australia
CATEGORIES:Holy Mass
END:VEVENT
BEGIN:VEVENT
DTSTART;TZID=Australia/Sydney:20270221T110000
DTEND;TZID=Australia/Sydney:20270221T120000
DTSTAMP:20260421T031410
CREATED:20220330T031013Z
LAST-MODIFIED:20250401T225336Z
UID:10002142-1803207600-1803211200@schoenstatt.org.au
SUMMARY:Holy Mass
DESCRIPTION:
URL:https://schoenstatt.org.au/event/holy-mass-2/2027-02-21/
LOCATION:Family Hall – Mount Schoenstatt\, 230 Fairlight Rd\, Mulgoa\, New South Wales\, 2745\, Australia
CATEGORIES:Holy Mass
END:VEVENT
BEGIN:VEVENT
DTSTART;TZID=Australia/Sydney:20270222T070000
DTEND;TZID=Australia/Sydney:20270222T074500
DTSTAMP:20260421T031410
CREATED:20250401T224454Z
LAST-MODIFIED:20260223T025648Z
UID:10001564-1803279600-1803282300@schoenstatt.org.au
SUMMARY:Holy Mass
DESCRIPTION:
URL:https://schoenstatt.org.au/event/7am-holy-mass-5/2027-02-22/
LOCATION:Joseph Kentenich House – Mount Schoenstatt\, 230 Fairlight Road\, Mulgoa\, NSW\, 2745\, Australia
CATEGORIES:Holy Mass
END:VEVENT
BEGIN:VEVENT
DTSTART;TZID=Australia/Sydney:20270223T070000
DTEND;TZID=Australia/Sydney:20270223T074500
DTSTAMP:20260421T031410
CREATED:20250401T224454Z
LAST-MODIFIED:20260223T025648Z
UID:10001565-1803366000-1803368700@schoenstatt.org.au
SUMMARY:Holy Mass
DESCRIPTION:
URL:https://schoenstatt.org.au/event/7am-holy-mass-5/2027-02-23/
LOCATION:Joseph Kentenich House – Mount Schoenstatt\, 230 Fairlight Road\, Mulgoa\, NSW\, 2745\, Australia
CATEGORIES:Holy Mass
END:VEVENT
BEGIN:VEVENT
DTSTART;TZID=Australia/Sydney:20270224T070000
DTEND;TZID=Australia/Sydney:20270224T074500
DTSTAMP:20260421T031410
CREATED:20250401T224454Z
LAST-MODIFIED:20260223T025648Z
UID:10001566-1803452400-1803455100@schoenstatt.org.au
SUMMARY:Holy Mass
DESCRIPTION:
URL:https://schoenstatt.org.au/event/7am-holy-mass-5/2027-02-24/
LOCATION:Joseph Kentenich House – Mount Schoenstatt\, 230 Fairlight Road\, Mulgoa\, NSW\, 2745\, Australia
CATEGORIES:Holy Mass
END:VEVENT
BEGIN:VEVENT
DTSTART;TZID=Australia/Sydney:20270225T110000
DTEND;TZID=Australia/Sydney:20270225T120000
DTSTAMP:20260421T031410
CREATED:20220330T030739Z
LAST-MODIFIED:20260223T025907Z
UID:10002337-1803553200-1803556800@schoenstatt.org.au
SUMMARY:Holy Mass
DESCRIPTION:
URL:https://schoenstatt.org.au/event/holy-mass/2027-02-25/
LOCATION:Family Hall – Mount Schoenstatt\, 230 Fairlight Rd\, Mulgoa\, New South Wales\, 2745\, Australia
CATEGORIES:Holy Mass
END:VEVENT
BEGIN:VEVENT
DTSTART;TZID=Australia/Sydney:20270226T070000
DTEND;TZID=Australia/Sydney:20270226T074500
DTSTAMP:20260421T031410
CREATED:20250401T224454Z
LAST-MODIFIED:20260223T025648Z
UID:10001567-1803625200-1803627900@schoenstatt.org.au
SUMMARY:Holy Mass
DESCRIPTION:
URL:https://schoenstatt.org.au/event/7am-holy-mass-5/2027-02-26/
LOCATION:Joseph Kentenich House – Mount Schoenstatt\, 230 Fairlight Road\, Mulgoa\, NSW\, 2745\, Australia
CATEGORIES:Holy Mass
END:VEVENT
BEGIN:VEVENT
DTSTART;TZID=Australia/Sydney:20270227T070000
DTEND;TZID=Australia/Sydney:20270227T074500
DTSTAMP:20260421T031410
CREATED:20250401T224454Z
LAST-MODIFIED:20260223T025648Z
UID:10001568-1803711600-1803714300@schoenstatt.org.au
SUMMARY:Holy Mass
DESCRIPTION:
URL:https://schoenstatt.org.au/event/7am-holy-mass-5/2027-02-27/
LOCATION:Joseph Kentenich House – Mount Schoenstatt\, 230 Fairlight Road\, Mulgoa\, NSW\, 2745\, Australia
CATEGORIES:Holy Mass
END:VEVENT
BEGIN:VEVENT
DTSTART;TZID=Australia/Sydney:20270228T110000
DTEND;TZID=Australia/Sydney:20270228T120000
DTSTAMP:20260421T031410
CREATED:20220330T031013Z
LAST-MODIFIED:20250401T225336Z
UID:10002143-1803812400-1803816000@schoenstatt.org.au
SUMMARY:Holy Mass
DESCRIPTION:
URL:https://schoenstatt.org.au/event/holy-mass-2/2027-02-28/
LOCATION:Family Hall – Mount Schoenstatt\, 230 Fairlight Rd\, Mulgoa\, New South Wales\, 2745\, Australia
CATEGORIES:Holy Mass
END:VEVENT
END:VCALENDAR